BEGIN:VCALENDAR
VERSION:2.0
PRODID:-//ChamberMaster//Event Calendar 2.0//EN
METHOD:PUBLISH
X-PUBLISHED-TTL:P3D
REFRESH-INTERVAL:P3D
CALSCALE:GREGORIAN
BEGIN:VEVENT
DTSTART:20221119T200000Z
DTEND:20221119T220000Z
X-MICROSOFT-CDO-ALLDAYEVENT:FALSE
SUMMARY:Orpheus Chamber Orchestra With Angela Hewitt at Shalin Liu
DESCRIPTION:Pre-concert talk with Artistic Director Barry Shiffman & artist\, 2 PM\n\nThe Orpheus Chamber Orchestra joins with pianist Angela Hewitt\, hailed as one of the leading keyboard interpreters of Bach\, for a spectacular display of concerti by J. S. Bach.
X-ALT-DESC;FMTTYPE=text/html:Pre-concert&nbsp\;talk&nbsp\;with Artistic Director Barry Shiffman &amp\; artist\, 2&nbsp\;PM<br />\nThe Orpheus Chamber Orchestra joins with pianist Angela Hewitt\, hailed as one of the leading keyboard interpreters of Bach\, for a spectacular display of concerti by J. S. Bach.
LOCATION:Shalin Liu Performance Center 37 Main Street Rockport\, MA
UID:e.2981.23088
SEQUENCE:3
DTSTAMP:20260424T110637Z
URL:https://business.capeannchamber.com/events/details/orpheus-chamber-orchestra-with-angela-hewitt-at-shalin-liu-23088
END:VEVENT

END:VCALENDAR
