BEGIN:VCALENDAR
VERSION:2.0
PRODID:-//ChamberMaster//Event Calendar 2.0//EN
METHOD:PUBLISH
X-PUBLISHED-TTL:P3D
REFRESH-INTERVAL:P3D
CALSCALE:GREGORIAN
BEGIN:VEVENT
DTSTART:20260121T220000Z
DTEND:20260121T233000Z
X-MICROSOFT-CDO-ALLDAYEVENT:FALSE
SUMMARY:Open to the Community Fitness Class: Core Express
DESCRIPTION:This is a fun and challenging express class\, targeting all parts of your core (abdominals\, obliques\, back\, and glutes!) to gain full core strength. This registration is for non-members only. Existing YMCA members are not required to register\, and can view current and future group exercise offerings at www.northshoreymca.org/schedules. FREE and open to the community. Register Here: https://tinyurl.com/35da3z8u
X-ALT-DESC;FMTTYPE=text/html:<span style="color:rgb(66\, 66\, 66)\; font-family:-apple-system\,inter\,helvetica\,arial\,lucida grande\,sans-serif\; font-size:14px">This is a fun and challenging express class\, targeting all parts of your core (abdominals\, obliques\, back\, and glutes!) to gain full core strength. This registration is for non-members only. Existing YMCA members are not required to register\, and can view current and future group exercise offerings at www.northshoreymca.org/schedules. FREE and open to the community. Register Here:&nbsp\;</span>https://tinyurl.com/35da3z8u
LOCATION:Glen T. Macleod Cape Ann YMCA 7 Gloucester Crossing Road Gloucester\, MA 01930
UID:e.2981.46120
SEQUENCE:3
DTSTAMP:20260425T151513Z
URL:https://business.capeannchamber.com/events/details/open-to-the-community-fitness-class-core-express-46120
END:VEVENT

END:VCALENDAR
