BEGIN:VCALENDAR
VERSION:2.0
PRODID:-//ChamberMaster//Event Calendar 2.0//EN
METHOD:PUBLISH
X-PUBLISHED-TTL:P3D
REFRESH-INTERVAL:P3D
CALSCALE:GREGORIAN
BEGIN:VEVENT
DTSTART:20260221T123000Z
DTEND:20260221T131500Z
X-MICROSOFT-CDO-ALLDAYEVENT:FALSE
SUMMARY:Open to the Community Fitness Class: Body Blast
DESCRIPTION:Body Blast is an energizing full-body workout designed to help you build strength and boost endurance. Using a mix of bodyweight movements and weights\, this class will challenge your muscles while keeping you moving and motivated from start to finish. FREE and open to the community. Register Here: https://tinyurl.com/4esf42sk
X-ALT-DESC;FMTTYPE=text/html:<span style="color:rgb(66\, 66\, 66)\; font-family:-apple-system\,inter\,helvetica\,arial\,lucida grande\,sans-serif\; font-size:14px">Body Blast is an energizing full-body workout designed to help you build strength and boost endurance. Using a mix of bodyweight movements and weights\, this class will challenge your muscles while keeping you moving and motivated from start to finish.&nbsp\;FREE and open to the community. Register Here:&nbsp\;</span>https://tinyurl.com/4esf42sk
LOCATION:Glen T. Macleod Cape Ann YMCA 7 Gloucester Crossing Road Gloucester\, MA 01930
UID:e.2981.46121
SEQUENCE:3
DTSTAMP:20260425T135421Z
URL:https://business.capeannchamber.com/events/details/open-to-the-community-fitness-class-body-blast-46121
END:VEVENT

END:VCALENDAR
