BEGIN:VCALENDAR
VERSION:2.0
PRODID:-//ChamberMaster//Event Calendar 2.0//EN
METHOD:PUBLISH
X-PUBLISHED-TTL:P3D
REFRESH-INTERVAL:P3D
CALSCALE:GREGORIAN
BEGIN:VEVENT
DTSTART:20260215T170000Z
DTEND:20260215T174500Z
X-MICROSOFT-CDO-ALLDAYEVENT:FALSE
SUMMARY:Open to the Community Family Yoga at the Cape Ann YMCA
DESCRIPTION:Come explore yoga together! Have fun with movement and play as you become more aware of your body and breath. Participants will learn partner poses and breathing techniques that foster relaxation\, strength\, and flexibility. This registration is for non-members only. Existing YMCA members are not required to register\, and can view current and future family fitness offerings at www.northshoreymca.org/schedules. Participants under age 11 must be accompanied by an adult. FREE and open to the community. Register here: https://tinyurl.com/ft22h7v2
X-ALT-DESC;FMTTYPE=text/html:<span style="color:rgb(66\, 66\, 66)\; font-family:-apple-system\,inter\,helvetica\,arial\,lucida grande\,sans-serif\; font-size:14px">Come explore yoga together! Have fun with movement and play as you become more aware of your body and breath. Participants will learn partner poses and breathing techniques that foster relaxation\, strength\, and flexibility. This registration is for non-members only. Existing YMCA members are not required to register\, and can view current and future family fitness offerings at www.northshoreymca.org/schedules. Participants under age 11 must be accompanied by an adult. FREE and open to the community.&nbsp\;</span>Register here:&nbsp\;https://tinyurl.com/ft22h7v2
LOCATION:Glen T. Macleod Cape Ann YMCA 7 Gloucester Crossing Road Gloucester\, MA 01930
UID:e.2981.45909
SEQUENCE:3
DTSTAMP:20260425T135429Z
URL:https://business.capeannchamber.com/events/details/open-to-the-community-family-yoga-at-the-cape-ann-ymca-45909
END:VEVENT

END:VCALENDAR
