BEGIN:VCALENDAR
VERSION:2.0
PRODID:-//ChamberMaster//Event Calendar 2.0//EN
METHOD:PUBLISH
X-PUBLISHED-TTL:P3D
REFRESH-INTERVAL:P3D
CALSCALE:GREGORIAN
BEGIN:VEVENT
DTSTART:20251018T160000Z
DTEND:20251018T164500Z
X-MICROSOFT-CDO-ALLDAYEVENT:FALSE
SUMMARY:Open to the Community Family Yoga
DESCRIPTION:Come explore yoga together! Have fun with movement and play to become more aware of your body and breath. Together you will learn partner poses and breathing techniques to foster relaxation strength and flexibility. Participants under age 11 must be accompanied by an adult. FREE and open to the community.
X-ALT-DESC;FMTTYPE=text/html:<span style="font-family:verdana\,geneva\,arial\,helvetica\,sans-serif\; font-size:12px">Come explore yoga together! Have fun with movement and play to become more aware of your body and breath. Together you will learn partner poses and breathing techniques to foster relaxation strength and flexibility. Participants under age 11 must be accompanied by an adult. FREE and open to the community.</span>
LOCATION:Glen T. MacLeod YMCA 7 Gloucester Crossing Road Gloucester\, MA 01930
UID:e.2981.45092
SEQUENCE:3
DTSTAMP:20260425T024344Z
URL:https://business.capeannchamber.com/events/details/open-to-the-community-family-yoga-45092
END:VEVENT

END:VCALENDAR
