BEGIN:VCALENDAR
VERSION:2.0
PRODID:-//ChamberMaster//Event Calendar 2.0//EN
METHOD:PUBLISH
X-PUBLISHED-TTL:P3D
REFRESH-INTERVAL:P3D
CALSCALE:GREGORIAN
BEGIN:VEVENT
DTSTART:20221014T230000Z
DTEND:20221015T010000Z
X-MICROSOFT-CDO-ALLDAYEVENT:FALSE
SUMMARY:Open Mic Night @ Whale's Jaw Cafe
DESCRIPTION:Open Mic Night is back with host John Hicks!  Full bar and dinner available throughout the night. Call us to reserve your table\, 978-999-5241. Located at entrance of Whistlestop Mall. Plentiful free parking and fully accessible to all abilities.  $5 cover charge per person (cash or credit).
X-ALT-DESC;FMTTYPE=text/html:<span style="font-family:open sans\; font-size:medium">Open Mic Night is back with host John Hicks!&nbsp\; Full bar and dinner available throughout the night. Call us to reserve your table\, 978-999-5241. Located at entrance of Whistlestop Mall. Plentiful free parking and fully accessible to all abilities.&nbsp\; $5 cover charge per person (cash or credit).</span>
LOCATION:17 Railroad Avenue Rockport\, MA 01966 at entrance of Whistlestop Mall
UID:e.2981.23156
SEQUENCE:3
DTSTAMP:20260424T123621Z
URL:https://business.capeannchamber.com/events/details/open-mic-night-whale-s-jaw-cafe-23156
END:VEVENT

END:VCALENDAR
