BEGIN:VCALENDAR
VERSION:2.0
PRODID:-//ChamberMaster//Event Calendar 2.0//EN
METHOD:PUBLISH
X-PUBLISHED-TTL:P3D
REFRESH-INTERVAL:P3D
CALSCALE:GREGORIAN
BEGIN:VEVENT
DTSTART:20251116T010000Z
DTEND:20251116T040000Z
X-MICROSOFT-CDO-ALLDAYEVENT:FALSE
SUMMARY:Once An Outlaw with The Peacheaters
DESCRIPTION:Once an Outlaw feat/Chris Anderson (formally of the Outlaws) is a powerhouse guitar driven blues/southern rock  experience.\n\n\n\nFronted by renown guitarist/vocalist Chris Anderson and supported by an all star line up of musicians Once an Outlaw is a must for any guitar\, blues or southern rock fan.\n\n\n\nAttendees will hear hits from the Outlaws\, Marshall Tucker and Allman Brothers as well as deep cuts for the die hard fan along with originals and blues chestnuts\n\n\n\nRolling Stone gave his album Old Friend 5 stars..\n\n\n\nFind out what fans have been raving about.... Once an Outlaw isn't a tribute act but a true legacy act..\n\n\n\nOaO has a revolving cast of members who still join the band on occasion\n\n\n\nChris Hicks                      (Marshall Tucker/Outlaws)\n\n\n\nHarvey Dalton Arnold     (Outlaws)\n\n\n\nDavid Goldflies               (Allman Brothers)\n\n\n\nMike Kach                       (Dickie Betts Band)\n\n\n\n\n\n\n\nThe Peacheaters\n\n\n\nThe Peacheaters dig deep into the 40 + year catalog of Allman Brothers Band music and deliver an EXPERIENCE like no other. No  2 gigs are ever alike. The Peacheaters make these songs feel as fresh as the first time you heard them.\n\n\n\nFueled by admiration and passion for the music of the ABB\, The Peacheaters have been rocking audiences for over 20 years. The Boston Globe\, WZLX\, Boston's Classic Rock Radio\, and many other media outlets have raved about the authenticity of the band's performances. \n\n\n\nFrom festivals to concert halls\, the band's success has taken them all over the U.S. including performances at venues such as Showcase Live\, The House of Blues\, Daytona's Bike Week\, The Big House in Macon\, GA\, and B.B. Kings\, NYC. \n\n\n\nThe band's dedication to this music\, and to "hitting the note" every night\, has helped them build an loyal and ever-growing fan base. The "Peach" has won multiple "Best Tribute Band" awards\, and shared stages with legends such as The Outlaws\, Melvin Seals (Jerry Garcia Band)\, Matt Abts (Gov't Mule)\, The Zen Tricksters\, and James Montgomery.
X-ALT-DESC;FMTTYPE=text/html:<div>Once&nbsp\;an&nbsp\;Outlaw&nbsp\;feat/Chris Anderson (formally of the Outlaws) is a powerhouse guitar driven blues/southern rock&nbsp\; experience.<br />\n<br />\nFronted by renown guitarist/vocalist Chris Anderson and supported by&nbsp\;an&nbsp\;all star line up of musicians&nbsp\;Once&nbsp\;an&nbsp\;Outlaw&nbsp\;is a must for any guitar\, blues or southern rock fan.<br />\n<br />\nAttendees will hear hits from the Outlaws\, Marshall Tucker and Allman Brothers as well as deep cuts for the die hard fan along with originals and blues chestnuts<br />\n<br />\nRolling Stone gave his album Old Friend 5 stars..<br />\n<br />\nFind out what fans have been raving about.... Once an Outlaw isn&#39\;t a tribute act but a true legacy act..<br />\n<br />\nOaO has a revolving cast of members who still join the band on occasion<br />\n<br />\nChris Hicks&nbsp\; &nbsp\; &nbsp\; &nbsp\; &nbsp\; &nbsp\; &nbsp\; &nbsp\; &nbsp\; &nbsp\; &nbsp\; (Marshall Tucker/Outlaws)<br />\n<br />\nHarvey Dalton Arnold&nbsp\; &nbsp\; &nbsp\;(Outlaws)<br />\n<br />\nDavid Goldflies&nbsp\; &nbsp\; &nbsp\; &nbsp\; &nbsp\; &nbsp\; &nbsp\; &nbsp\;(Allman Brothers)<br />\n<br />\nMike Kach&nbsp\; &nbsp\; &nbsp\; &nbsp\; &nbsp\; &nbsp\; &nbsp\; &nbsp\; &nbsp\; &nbsp\; &nbsp\; &nbsp\;(Dickie Betts Band)<br />\n<br />\n<br />\n<br />\nThe Peacheaters<br />\n<br />\nThe Peacheaters dig deep into the 40 + year catalog of Allman Brothers Band music and deliver an EXPERIENCE like no other. No&nbsp\; 2 gigs are ever alike. The&nbsp\;Peacheaters make these songs feel as fresh as the first time you heard them.<br />\n<br />\nFueled by&nbsp\;admiration and passion for the music of the ABB\, The&nbsp\;Peacheaters have been rocking audiences for over 20 years.&nbsp\;The Boston Globe\,&nbsp\;WZLX\,&nbsp\;Boston&#39\;s Classic Rock Radio\, and many other media outlets have raved about the authenticity of the band&#39\;s performances.&nbsp\;<br />\n<br />\nFrom festivals to concert halls\, the band&#39\;s success has taken them all over the U.S.&mdash\;including performances at venues such as Showcase Live\, The House of Blues\, Daytona&#39\;s Bike Week\, The Big House in Macon\, GA\, and B.B. Kings\, NYC.&nbsp\;<br />\n<br />\nThe band&#39\;s dedication to this&nbsp\;music\, and to &ldquo\;hitting the note&rdquo\; every night\, has helped them build an loyal and ever-growing fan base. The &ldquo\;Peach&rdquo\; has won multiple &ldquo\;Best Tribute Band&rdquo\; awards\, and shared stages with legends such as The Outlaws\, Melvin Seals (Jerry Garcia Band)\, Matt Abts (Gov&rsquo\;t Mule)\, The Zen Tricksters\, and James Montgomery.</div>\n
LOCATION:The Cut 177 Main St Gloucester\, MA
UID:e.2981.43119
SEQUENCE:3
DTSTAMP:20260425T035612Z
URL:https://business.capeannchamber.com/events/details/once-an-outlaw-with-the-peacheaters-43119
END:VEVENT

END:VCALENDAR
