BEGIN:VCALENDAR
VERSION:2.0
PRODID:-//ChamberMaster//Event Calendar 2.0//EN
METHOD:PUBLISH
X-PUBLISHED-TTL:P3D
REFRESH-INTERVAL:P3D
CALSCALE:GREGORIAN
BEGIN:VEVENT
DTSTART:20140608T170000Z
DTEND:20140608T200000Z
X-MICROSOFT-CDO-ALLDAYEVENT:FALSE
SUMMARY:Old Time Carnival
DESCRIPTION:***THIS IS A FAMILY EVENT THAT WILL ENTERTAIN KIDS OF ALL AGES***\nFace painting * Potato sack races * Big ball croquet * Hula hoop contests * Balloon artists * Beach bean bag toss * Silly picture station * Juggling * Stilt walkers * \nBouncy hopper ball races * Stomp rocket mania * Fun carnival snacks   children 2 years & under are free.  To purchase tickets in advance\, please email sbptickets@gmail.com. Cash\, check or charge accepted.  Sponsored by Sandy Bay Preschool.
X-ALT-DESC;FMTTYPE=text/html:***THIS IS A FAMILY EVENT THAT WILL ENTERTAIN KIDS OF ALL AGES***\nFace painting * Potato sack races * Big ball croquet * Hula hoop contests * Balloon artists * Beach bean bag toss * Silly picture station * Juggling * Stilt walkers * \nBouncy hopper ball races * Stomp rocket mania * Fun carnival snacks & refreshments & more!\n$5 admission\, $2 amusement tickets\; children 2 years & under are free.  To purchase tickets in advance\, please email sbptickets@gmail.com. Cash\, check or charge accepted.  Sponsored by Sandy Bay Preschool.
LOCATION:Millbrook Meadow \, Rockport\, MA 01966 Millbrook Meadow (across from Front Beach) Rockport\, MA
UID:e.2981.1319
SEQUENCE:3
DTSTAMP:20260419T174615Z
URL:https://business.capeannchamber.com/events/details/old-time-carnival-06-08-2014-1319
END:VEVENT

END:VCALENDAR
