BEGIN:VCALENDAR
VERSION:2.0
PRODID:-//ChamberMaster//Event Calendar 2.0//EN
METHOD:PUBLISH
X-PUBLISHED-TTL:P3D
REFRESH-INTERVAL:P3D
CALSCALE:GREGORIAN
BEGIN:VEVENT
DTSTART;VALUE=DATE:20221001
DTEND;VALUE=DATE:20221101
TRANSP:TRANSPARENT
X-MICROSOFT-CDO-ALLDAYEVENT:TRUE
SUMMARY:October is Talk About Your Medicines Month
DESCRIPTION:October is the 37th annual BeMedWise Talk About Your Medicines Month all about Medication Safety & Aging. We're hoping everyone will visit - and share - the page we've created which is chock-full of super helpful\, informative resources\, info\, and tools on helping older patients stay med-safe. We're also so excited to offer our heartfelt thanks to Johnson & Johnson Consumer Health\, Beth Israel Lahey Health Beverly and Addison Gilbert Hospitals\, and Cape Ann Savings Bank for their generous support of this initiative.
X-ALT-DESC;FMTTYPE=text/html:<span style="font-size:18px"><span style="font-family:times new roman">October is&nbsp\;the 37th annual BeMedWise&nbsp\;<a href="https://www.bemedwise.org/talk-about-your-medicines-month/" style="font-family: Helvetica\; text-size-adjust: auto\;"><em>T</em><em><em>alk About Your Medicines Month</em></em></a><em>&nbsp\;</em>all about Medication Safety &amp\; Aging. We&rsquo\;re&nbsp\;hoping everyone will visit - and share - the&nbsp\;<a href="https://www.bemedwise.org/talk-about-your-medicines-month/" style="font-family: Helvetica\; text-size-adjust: auto\;">page</a>&nbsp\;we&rsquo\;ve created&nbsp\;which is chock-full of super helpful\, informative&nbsp\;resources\, info\, and tools on helping older patients stay med-safe. We&rsquo\;re also so excited to offer our heartfelt thanks to <em><a href="https://www.jnjconsumerhealth.com/homepage">Johnson &amp\; Johnson Consumer Health</a></em>\,&nbsp\;<a href="https://www.beverlyhospital.org/locations--services/locations/addison-gilbert-hospital" style="font-family: Helvetica\; text-size-adjust: auto\;"><em>Beth Israel Lahey Health Beverly and Addison Gilbert Hospitals</em></a>\,&nbsp\;and&nbsp\;<a href="https://www.capeannsavings.bank/" style="font-family: Helvetica\; text-size-adjust: auto\;">Cape Ann Savings Bank</a>&nbsp\;for their&nbsp\;generous support of this&nbsp\;initiative.</span></span>
LOCATION:BeMedWise Talk About Your Medicines Month
UID:e.2981.23147
SEQUENCE:3
DTSTAMP:20260424T140804Z
URL:https://business.capeannchamber.com/events/details/october-is-talk-about-your-medicines-month-23147
END:VEVENT

END:VCALENDAR
