BEGIN:VCALENDAR
VERSION:2.0
PRODID:-//ChamberMaster//Event Calendar 2.0//EN
METHOD:PUBLISH
X-PUBLISHED-TTL:P3D
REFRESH-INTERVAL:P3D
CALSCALE:GREGORIAN
BEGIN:VEVENT
DTSTART;VALUE=DATE:20251108
DTEND;VALUE=DATE:20251110
TRANSP:TRANSPARENT
X-MICROSOFT-CDO-ALLDAYEVENT:TRUE
SUMMARY:NSAA Holiday Pop-Up!
DESCRIPTION:It's that time of year! Come enjoy our last open weekend of 2025 (November 8 & 9)\, with mulled wine\, hot cider\, fresh-baked goodies\, and of course\, lots of art. In partnership with the incredibly talented creators at Cape Ann Artisans\, we have amazing wearables and works big and small available. Find the perfect gift for friends or family this holiday season\, right here at NSAA!\nSaturday: 10AM   5PM\n\nSunday: 12PM   4PM\n\n\n\nAll Are Welcome!
X-ALT-DESC;FMTTYPE=text/html:It&rsquo\;s that time of year! Come enjoy our last open weekend of 2025 (November 8 &amp\; 9)\, with mulled wine\, hot cider\, fresh-baked goodies\, and of course\, lots of art. In partnership with the incredibly talented creators at Cape Ann Artisans\, we have amazing wearables and works big and small available. Find the perfect gift for friends or family this holiday season\, right here at NSAA!\n<p><strong>Saturday: 10AM &ndash\; 5PM</strong></p>\n\n<p><strong>Sunday: 12PM &ndash\; 4PM<br />\n<br />\nAll Are Welcome!</strong><br type="_moz" />\n&nbsp\;</p>\n
LOCATION:North Shore Arts Association 11 Pirates Lane\, Gloucester MA 01930
UID:e.2981.45186
SEQUENCE:3
DTSTAMP:20260425T034847Z
URL:https://business.capeannchamber.com/events/details/nsaa-holiday-pop-up-45186
END:VEVENT

END:VCALENDAR
