BEGIN:VCALENDAR
VERSION:2.0
PRODID:-//ChamberMaster//Event Calendar 2.0//EN
METHOD:PUBLISH
X-PUBLISHED-TTL:P3D
REFRESH-INTERVAL:P3D
CALSCALE:GREGORIAN
BEGIN:VEVENT
DTSTART:20241218T223000Z
DTEND:20241219T010000Z
X-MICROSOFT-CDO-ALLDAYEVENT:FALSE
SUMMARY:North Shore Mosaics Holiday Workshop
DESCRIPTION:Join us at Ipswich Ale Brewery in Ipswich\, MA (2 Brewery Place\, Ipswich\, MA) on December 18th\, 2024 to learn how to make your very own holiday-themed Mosaic round art piece! This class is for beginners and for all ages! You can choose from 5 designs!*** Please note on the design options that some designs are easier than others. *** \n\n \n\nDuring the workshop\, you can enjoy your favorite beer and grab some delicious food!\n\nThe workshop starts at 5:30 pm and lasts about 3 hours. Please plan to arrive by 5:15 to grab dinner or an appetizer. Please note that the pictures provide designs and are only models. You will choose the design you want and the colors of your choice.\n\n \n\n**Please note that for all of the designs except the poinsettia\, you will be cutting glass mosaic tiles. They can be sharp at times\, so you must take care when handling the glass. Protective glasses will be provided.\n\n*** Please bring a pizza box or other type of box that is larger than 10'' to transport your beautiful mosaic piece home safely***\n\n \n\nYour ticket includes:\n\n-all of the tools and materials to make your project a success including a stained wooden 10 in round and ring\, your choice of mosaic pieces\, glue\, and grout!\n\n-an experienced instructor to guide you!\n\nTo register\, choose your amount of tickets and add them to your cart. Go to the top of the page and click on your cart to check out and purchase the tickets. **Please note there are no refunds for workshops. If you can't attend a workshop\, please email renee.spellman@gmail.com to transfer your ticket to a future workshop.\n\n \n\nPurchase tickets: North Shore Mosaics
X-ALT-DESC;FMTTYPE=text/html:<p style="text-align:initial"><span style="background-color:var(--ricos-custom-p-background-color\,unset)">Join us at Ipswich Ale Brewery in Ipswich\, MA (2 Brewery Place\, Ipswich\, MA) on December 18th\, 2024 to learn how to make your very own holiday-themed Mosaic round art piece! This class is for beginners and for all ages! You can choose from 5 designs!*** Please note on the design options that some designs are easier than others. *** </span></p>\n\n<div style="background:transparent\; border:0px\; padding:0px\; text-align:initial">&nbsp\;</div>\n\n<p style="text-align:initial"><span style="background-color:var(--ricos-custom-p-background-color\,unset)">During the workshop\, you can enjoy your favorite beer and grab some delicious food!</span></p>\n\n<p style="text-align:initial"><span style="background-color:var(--ricos-custom-p-background-color\,unset)">The workshop starts at 5:30 pm and lasts about 3 hours. Please plan to arrive by 5:15 to grab dinner or an appetizer. Please note that the pictures provide designs and are only models. You will choose the design you want and the colors of your choice.</span></p>\n\n<div style="background:transparent\; border:0px\; padding:0px\; text-align:initial">&nbsp\;</div>\n\n<p style="text-align:initial"><span style="background-color:var(--ricos-custom-p-background-color\,unset)">**Please note that for all of the designs except the poinsettia\, you will be cutting glass mosaic tiles. They can be sharp at times\, so you must take care when handling the glass. Protective glasses will be provided.</span></p>\n\n<p style="text-align:initial"><span style="background-color:var(--ricos-custom-p-background-color\,unset)">*** Please bring a pizza box or other type of box that is larger than 10&#39\;&#39\; to transport your beautiful mosaic piece home safely***</span></p>\n\n<div style="background:transparent\; border:0px\; padding:0px\; text-align:initial">&nbsp\;</div>\n\n<p style="text-align:initial"><span style="background-color:var(--ricos-custom-p-background-color\,unset)">Your ticket includes:</span></p>\n\n<p style="text-align:initial"><span style="background-color:var(--ricos-custom-p-background-color\,unset)">-all of the tools and materials to make your project a success including a stained wooden 10 in round and ring\, your choice of mosaic pieces\, glue\, and grout!</span></p>\n\n<p style="text-align:initial"><span style="background-color:var(--ricos-custom-p-background-color\,unset)">-an experienced instructor to guide you!</span></p>\n\n<p style="text-align:initial"><u>To register\,</u><span style="background-color:var(--ricos-custom-p-background-color\,unset)">&nbsp\;choose your amount of tickets and add them to your cart. Go to the top of the page and</span><u>&nbsp\;click on your cart</u><span style="background-color:var(--ricos-custom-p-background-color\,unset)">&nbsp\;to check out and purchase the tickets. **Please note there are no refunds for workshops. If you can&#39\;t attend a workshop\, please email </span><a class="_7xqoR AYps-" href="mailto:renee.spellman@gmail.com" rel="noopener" style="background: transparent\; border: 0px\; margin: 0px\; outline: 0px\; padding: 0px\; vertical-align: baseline\; cursor: pointer\; text-decoration: var(--ricos-custom-link-text-decoration\,none)\; -webkit-tap-highlight-color: rgba(0\, 0\, 0\, 0)\; color: var(--ricos-custom-link-color\,var(--ricos-action-color\,#116dff))\; font-family: var(--ricos-custom-link-font-family\,unset)\; font-size: var(--ricos-custom-link-font-size\,unset)\; font-style: var(--ricos-custom-link-font-style\,unset)\; font-weight: var(--ricos-custom-link-font-weight\,unset)\; line-height: var(--ricos-custom-link-line-height\,unset)\; min-height: var(--ricos-custom-link-min-height\,unset)\; box-sizing: inherit\;" target="_self">renee.spellman@gmail.com</a><span style="background-color:var(--ricos-custom-p-background-color\,unset)"> to transfer your ticket to a future workshop.</span></p>\n\n<div style="background:transparent\; border:0px\; padding:0px\; text-align:initial">&nbsp\;</div>\n\n<p style="text-align:initial"><span style="background-color:var(--ricos-custom-p-background-color\,unset)">Purchase tickets: </span><a class="_7xqoR AYps-" href="https://northshoremamosaics.square.site/product/holiday-mosaic-round-workshop-december-18th-ipswich-ale-brewery-/6?cs=true&amp\;cst=custom&amp\;fbclid=IwY2xjawGF1-pleHRuA2FlbQIxMAABHWErb7jZu81GUiE6ogrXeLF0344g1kb_3JYHLl8e-74kFk3q8g_GwgCzkA_aem_Sxx2hylO2kBYWSXFyNZB4w" rel="noopener noreferrer" style="background: transparent\; border: 0px\; margin: 0px\; outline: 0px\; padding: 0px\; vertical-align: baseline\; cursor: pointer\; text-decoration: var(--ricos-custom-link-text-decoration\,none)\; -webkit-tap-highlight-color: rgba(0\, 0\, 0\, 0)\; color: var(--ricos-custom-link-color\,var(--ricos-action-color\,#116dff))\; font-family: var(--ricos-custom-link-font-family\,unset)\; font-size: var(--ricos-custom-link-font-size\,unset)\; font-style: var(--ricos-custom-link-font-style\,unset)\; font-weight: var(--ricos-custom-link-font-weight\,unset)\; line-height: var(--ricos-custom-link-line-height\,unset)\; min-height: var(--ricos-custom-link-min-height\,unset)\; box-sizing: inherit\;" target="_blank"><strong><u><span style="background-color:var(--ricos-custom-p-background-color\,unset)">North Shore Mosaics</span></u></strong></a></p>\n
LOCATION:Brewer's Table at Ipswich Ale Brewery 2 Brewery Place\, Ipswich\, MA
UID:e.2981.34124
SEQUENCE:3
DTSTAMP:20260424T123503Z
URL:https://business.capeannchamber.com/events/details/north-shore-mosaics-holiday-workshop-34124
END:VEVENT

END:VCALENDAR
