BEGIN:VCALENDAR
VERSION:2.0
PRODID:-//ChamberMaster//Event Calendar 2.0//EN
METHOD:PUBLISH
X-PUBLISHED-TTL:P3D
REFRESH-INTERVAL:P3D
CALSCALE:GREGORIAN
BEGIN:VEVENT
DTSTART:20241221T193000Z
DTEND:20241221T203000Z
X-MICROSOFT-CDO-ALLDAYEVENT:FALSE
SUMMARY:North Shore Christian Men's Choir Christmas Concert 2024
DESCRIPTION:Enjoy some holiday classics and Christmas cheer with the North Shore Christian Men's Choir at the First Baptist Church in Rockport!
X-ALT-DESC;FMTTYPE=text/html:Enjoy some holiday classics and Christmas cheer with the North Shore Christian Men&#39\;s Choir at the First Baptist Church in Rockport!
LOCATION:First Baptist Church of Rockport 4 High Street Rockport\, MA 01966
UID:e.2981.33201
SEQUENCE:3
DTSTAMP:20260424T124000Z
URL:https://business.capeannchamber.com/events/details/north-shore-christian-men-s-choir-christmas-concert-2024-33201
END:VEVENT

END:VCALENDAR
