BEGIN:VCALENDAR
VERSION:2.0
PRODID:-//ChamberMaster//Event Calendar 2.0//EN
METHOD:PUBLISH
X-PUBLISHED-TTL:P3D
REFRESH-INTERVAL:P3D
CALSCALE:GREGORIAN
BEGIN:VEVENT
DTSTART:20221217T193000Z
DTEND:20221217T203000Z
X-MICROSOFT-CDO-ALLDAYEVENT:FALSE
SUMMARY:North Shore Christian Men's Choir - Christmas Carol Sing-along
DESCRIPTION:The First Baptist Church invites the community to a free Christmas carol community sing-along with the North Shore Christian Men's Choir. A time of socialization and refreshments will follow\, prior to the 77th Annual Christmas Pageant. The concert will take place in the church sanctuary located at 4 High Street\, beginning at 2:30 PM.  All are welcome.
X-ALT-DESC;FMTTYPE=text/html:The First Baptist Church invites the community to a free Christmas carol community sing-along with the North Shore Christian Men&rsquo\;s Choir. A time of socialization and refreshments will follow\, prior to the 77th Annual Christmas Pageant. The concert will take place in the church sanctuary located at 4 High Street\, beginning at 2:30 PM.&nbsp\; All are welcome.
LOCATION:Rockport Baptist Church
UID:e.2981.23291
SEQUENCE:3
DTSTAMP:20260424T090531Z
URL:https://business.capeannchamber.com/events/details/north-shore-christian-men-s-choir-christmas-carol-sing-along-23291
END:VEVENT

END:VCALENDAR
