BEGIN:VCALENDAR
VERSION:2.0
PRODID:-//ChamberMaster//Event Calendar 2.0//EN
METHOD:PUBLISH
X-PUBLISHED-TTL:P3D
REFRESH-INTERVAL:P3D
CALSCALE:GREGORIAN
BEGIN:VEVENT
DTSTART;VALUE=DATE:20250802
DTEND;VALUE=DATE:20250831
TRANSP:TRANSPARENT
X-MICROSOFT-CDO-ALLDAYEVENT:TRUE
SUMMARY:North Shore Arts Association Exhibition Three
DESCRIPTION:Exhibition Three at the North Shore Arts Association showcases a diverse collection of artworks by our Juried Artist Members. With over 140 works of art\, this vibrant exhibition features a plethora of paintings\, sculpture\, and mixed media pieces\, showcasing a variety of styles and mediums. Visitors are invited to experience the creativity and craftsmanship of some of the region's finest artists from August 2 to August 30.\n\n\n\nAll are invited to celebrate the artists and experience their work at the opening reception on Saturday\, August 2\, from 1PM   3PM. Light fare and drinks provided. Plan your visit today!
X-ALT-DESC;FMTTYPE=text/html:<strong>Exhibition Three</strong> at the North Shore Arts Association showcases a diverse collection of artworks by our Juried Artist Members. With over 140 works of art\, this vibrant exhibition features a plethora of paintings\, sculpture\, and mixed media pieces\, showcasing a variety of styles and mediums. Visitors are invited to experience the creativity and craftsmanship of some of the region&rsquo\;s finest artists <strong>from August 2 to August 30.</strong><br />\n<br />\n<strong>All are invited to celebrate the artists and experience their work at the opening reception on Saturday\, August 2\, from 1PM &ndash\; 3PM. Light fare and drinks provided. Plan your visit today!</strong>
LOCATION:North Shore Arts Association 11 Pirates Lane Gloucester\, MA 01930
UID:e.2981.41374
SEQUENCE:3
DTSTAMP:20260424T235200Z
URL:https://business.capeannchamber.com/events/details/north-shore-arts-association-exhibition-three-41374
END:VEVENT

END:VCALENDAR
