BEGIN:VCALENDAR
VERSION:2.0
PRODID:-//ChamberMaster//Event Calendar 2.0//EN
METHOD:PUBLISH
X-PUBLISHED-TTL:P3D
REFRESH-INTERVAL:P3D
CALSCALE:GREGORIAN
BEGIN:VEVENT
DTSTART:20190606T220000Z
DTEND:20190607T010000Z
X-MICROSOFT-CDO-ALLDAYEVENT:FALSE
SUMMARY:North Shore Acappella Cruise
DESCRIPTION:You know them\, you love them\, it's the North Shore Acappella! They'll sing all the hits from across the decades as you cruise beautiful Gloucester Harbor. If that's not enough\, you'll view the sunset\, and enjoy an unlimited dinner buffet. Stroll our decks\, lounge on our open-air top deck. 21+ Event.
X-ALT-DESC;FMTTYPE=text/html:<span style="color:rgb(0\, 0\, 0)\; font-family:-webkit-standard"><span style="font-family:times\; font-size:12pt">You know them\, you love them\, it&rsquo\;s the North Shore</span></span><span style="color:rgb(0\, 0\, 0)\; font-family:-webkit-standard"><span style="font-family:times\; font-size:12pt">&nbsp\;</span></span><span style="color:rgb(0\, 0\, 0)\; font-family:-webkit-standard"><span style="font-family:times\; font-size:12pt">Acappella! They&rsquo\;ll sing all the hits from across the decades as you cruise beautiful Gloucester Harbor. If that&rsquo\;s not enough\, you&rsquo\;ll view the sunset\, and enjoy an unlimited dinner buffet. Stroll our decks\, lounge on our open-air top deck. 21+ Event.</span></span><span style="color:rgb(0\, 0\, 0)\; font-family:-webkit-standard"><span style="font-family:times\; font-size:12pt">&nbsp\;</span></span>
LOCATION:Beauport Cruiselines | 6 Rowe Square | Gloucester\, MA 01930
UID:e.2981.15050
SEQUENCE:3
DTSTAMP:20260422T004119Z
URL:https://business.capeannchamber.com/events/details/north-shore-acappella-cruise-15050
END:VEVENT

END:VCALENDAR
