BEGIN:VCALENDAR
VERSION:2.0
PRODID:-//ChamberMaster//Event Calendar 2.0//EN
METHOD:PUBLISH
X-PUBLISHED-TTL:P3D
REFRESH-INTERVAL:P3D
CALSCALE:GREGORIAN
BEGIN:VEVENT
DTSTART:20241221T000000Z
DTEND:20241222T220000Z
X-MICROSOFT-CDO-ALLDAYEVENT:FALSE
SUMMARY:North Atlantic Ballet - The Nutcracker
DESCRIPTION:FIVE SHOWS:\n\nFri\, 12/20 at 7PM\n\nSat\, 12/21 at 12PM & 7PM\n\nSun\, 12/22 at 12PM & 5PM\n\n\n\nCELEBRATE THE MAGIC OF THE HOLIDAYS WITH A TRIP TO THE LAND OF THE SWEETS \n\n\n\nExperience the wonder of The Nutcracker like never before\, a modern twist on a timeless classic that brings the magic of the holidays to life in a whole new way. North Atlantic Ballet's production marries the enchantment of the holiday season with the creativity of a Pixar masterpiece. From dazzling choreography to breathtaking visuals\, every moment is designed to transport you into the magical Land of the Sweets. Our show isn't just for kids   it's entertainment for all ages\, making it the perfect family outing this holiday season.\n\n\n\nArtistic Director Lucy Warren-Whitman infuses her own childhood memories into the party scene\, adding a touch of authenticity that will warm your heart. As the resident ballet company at The Cabot Theater in Beverly\, MA\, we're proud to invite you to witness this unforgettable experience in a historic and charming setting. Join us and celebrate the holidays with a trip to the Land of the Sweets   a journey that promises to be as heartwarming as it is entertaining.\n\n\n\nPlease note: We love supporting the renovation of this historic theater we call home. There is a $4 Restoration fee included in each ticket to support the ongoing restorations.\n\n\n\nRunning Time: 2 hours including intermission\n\n\n\nFor more information about North Atlantic Ballet visit: www.northatlanticballet.org
X-ALT-DESC;FMTTYPE=text/html:<strong>FIVE SHOWS:</strong><br />\nFri\, 12/20 at 7PM<br />\nSat\, 12/21 at 12PM &amp\; 7PM<br />\nSun\, 12/22 at 12PM &amp\; 5PM<br />\n<br />\nCELEBRATE THE MAGIC OF THE HOLIDAYS WITH A TRIP TO THE LAND OF THE SWEETS&hellip\;<br />\n<br />\nExperience the wonder of The Nutcracker like never before\, a modern twist on a timeless classic that brings the magic of the holidays to life in a whole new way. North Atlantic Ballet&rsquo\;s production marries the enchantment of the holiday season with the creativity of a Pixar masterpiece. From dazzling choreography to breathtaking visuals\, every moment is designed to transport you into the magical Land of the Sweets. Our show isn&rsquo\;t just for kids &ndash\; it&rsquo\;s entertainment for all ages\, making it the perfect family outing this holiday season.<br />\n<br />\nArtistic Director Lucy Warren-Whitman infuses her own childhood memories into the party scene\, adding a touch of authenticity that will warm your heart. As the resident ballet company at The Cabot Theater in Beverly\, MA\, we&rsquo\;re proud to invite you to witness this unforgettable experience in a historic and charming setting. Join us and celebrate the holidays with a trip to the Land of the Sweets &ndash\; a journey that promises to be as heartwarming as it is entertaining.<br />\n<br />\nPlease note: We love supporting the renovation of this historic theater we call home. There is a $4 Restoration fee included in each ticket to support the ongoing restorations.<br />\n<br />\nRunning Time: 2 hours including intermission<br />\n<br />\nFor more information about North Atlantic Ballet visit: www.northatlanticballet.org
LOCATION:The Cabot 286 Cabot Street Beverly\, MA 01915
UID:e.2981.34242
SEQUENCE:3
DTSTAMP:20260424T123403Z
URL:https://business.capeannchamber.com/events/details/north-atlantic-ballet-the-nutcracker-34242
END:VEVENT

END:VCALENDAR
