BEGIN:VCALENDAR
VERSION:2.0
PRODID:-//ChamberMaster//Event Calendar 2.0//EN
METHOD:PUBLISH
X-PUBLISHED-TTL:P3D
REFRESH-INTERVAL:P3D
CALSCALE:GREGORIAN
BEGIN:VEVENT
DTSTART:20250911T123000Z
DTEND:20250911T143000Z
X-MICROSOFT-CDO-ALLDAYEVENT:FALSE
SUMMARY:Nonprofit Series - Building a Board of Directors and Creating a Roadmap for Their Success
DESCRIPTION:Your nonprofit's success depends on cultivating a board of directors that is vested in your \n\nmission and dedicated to providing fiduciary oversight. Join us to discuss recruiting and \n\nmaintaining a board that helps your organization achieve its outcomes. Learn: \n\n	ways to recruit board members\, \n	achieve the right composition of your board\, and \n	maintain board member engagement. \n\nFacilitator: Melissa Kenig
X-ALT-DESC;FMTTYPE=text/html:<span style="color:black"><span style="font-family:arial\,sans-serif">Your nonprofit&#39\;s success depends on cultivating a board of directors that is vested in your </span></span><br />\n<span style="color:black"><span style="font-family:arial\,sans-serif">mission and dedicated to providing fiduciary oversight. Join us to discuss recruiting and </span></span><br />\n<span style="color:black"><span style="font-family:arial\,sans-serif">maintaining a board that helps your organization achieve its outcomes. Learn: </span></span>\n<ul>\n	<li><span style="color:black"><span style="font-family:arial\,sans-serif">ways to recruit board members\, </span></span></li>\n	<li><span style="color:black"><span style="font-family:arial\,sans-serif">achieve the right composition of your board\, and </span></span></li>\n	<li><span style="color:black"><span style="font-family:arial\,sans-serif">maintain board member engagement.&nbsp\;</span></span></li>\n</ul>\n<span style="color:black"><span style="font-family:arial\,sans-serif">Facilitator: Melissa Kenig</span></span>
LOCATION:ONLINE
UID:e.2981.43037
SEQUENCE:3
DTSTAMP:20260425T011713Z
URL:https://business.capeannchamber.com/events/details/nonprofit-series-building-a-board-of-directors-and-creating-a-roadmap-for-their-success-43037
END:VEVENT

END:VCALENDAR
