BEGIN:VCALENDAR
VERSION:2.0
PRODID:-//ChamberMaster//Event Calendar 2.0//EN
METHOD:PUBLISH
X-PUBLISHED-TTL:P3D
REFRESH-INTERVAL:P3D
CALSCALE:GREGORIAN
BEGIN:VEVENT
DTSTART:20241212T223000Z
DTEND:20241213T003000Z
X-MICROSOFT-CDO-ALLDAYEVENT:FALSE
SUMMARY:Next Gen Holiday Party
DESCRIPTION:Join the Next Gen Young Professionals committee of the Greater Cape Ann Chamber of Commerce for their annual holiday party at Laneside Pub & Brewery. Enjoy good food and drink while you mix and mingle with other young professionals from across greater Cape Ann. The party is free and open to all so consider bringing a friend or colleague along with you. Appetizers will be provided with a cash bar.
X-ALT-DESC;FMTTYPE=text/html:Join the Next Gen Young Professionals committee of the Greater Cape Ann Chamber of Commerce for their annual holiday party at Laneside Pub &amp\; Brewery. Enjoy good food and drink while you mix and mingle with other young professionals from across greater Cape Ann. The party is free and open to all so consider bringing a friend or colleague along with you. Appetizers will be provided with a cash bar.&nbsp\;
LOCATION:Laneside Pub & Brewery 53 Gloucester Avenue Gloucester\, MA 01930
UID:e.2981.34233
SEQUENCE:3
DTSTAMP:20260424T152506Z
URL:https://business.capeannchamber.com/events/details/next-gen-holiday-party-34233
END:VEVENT

END:VCALENDAR
