BEGIN:VCALENDAR
VERSION:2.0
PRODID:-//ChamberMaster//Event Calendar 2.0//EN
METHOD:PUBLISH
X-PUBLISHED-TTL:P3D
REFRESH-INTERVAL:P3D
CALSCALE:GREGORIAN
BEGIN:VEVENT
DTSTART:20240101T000000Z
DTEND:20240101T060000Z
X-MICROSOFT-CDO-ALLDAYEVENT:FALSE
SUMMARY:New Year's Eve At Hammond Castle Museum
DESCRIPTION:WHAT ARE YOU DOING THIS NEW YEAR'S EVE?\n\n\n\nBid farewell to 2023 and ring in the brand-new year\, 2024\, in grand style in our Castle's Great Hall. Get ready to dance the night away with the fantastic beats of Scape Audio New England and be entertained by our surprise guests. Savor the evening with an array of mouthwatering heavy hors d'oeuvres by Creative Catering and\, of course\, raise your glass for a complimentary sparkling champagne toast as we count down to the stroke of midnight with our New Year's illumination.\n\nBut that's not all! Explore the many rooms of the Castle\, each with its unique charm and history\, adding an extra layer of delight to your New Year's Eve celebration. So\, gather your friends\, dress in your finest attire\, and make memories that will last a lifetime in the enchanting setting of Club Castle.\n\n\n\nThis New Year's Eve\, keep it local\, keep it magical! Reserve your tickets now to secure your spot at the North Shore's most spectacular New Year's Eve bash. \n\n\n\nDoors open at 9:00 pm and the celebration goes to 1:00 am. 21 and over\, ID required upon arrival. Cash bar. Free parking. Black-tie optional.\n\n\n\nHammond Castle Museum member savings apply. This event is generously sponsored by Cape Ann Savings Bank.
X-ALT-DESC;FMTTYPE=text/html:<span style="color:black"><span style="font-size:12.0pt"><em>WHAT ARE YOU DOING THIS NEW YEAR&#39\;S EVE?</em><br />\n<br />\nBid farewell to 2023 and ring in the brand-new year\, 2024\, in grand style in our Castle&#39\;s Great Hall. Get ready to dance the night away with the fantastic beats of Scape Audio New England and be entertained by our surprise guests. Savor the evening with an array of mouthwatering heavy hors d&#39\;oeuvres by Creative Catering and\, of course\, raise your glass for a complimentary sparkling champagne toast as we count down to the stroke of midnight with our New Year&#39\;s illumination.<br />\nBut that&#39\;s not all! Explore the many rooms of the Castle\, each with its unique charm and history\, adding an extra layer of delight to your New Year&#39\;s Eve celebration. So\, gather your friends\, dress in your finest attire\, and make memories that will last a lifetime in the enchanting setting of Club Castle.<br />\n<br />\nThis New Year&#39\;s Eve\, keep it local\, keep it magical! Reserve your tickets now to secure your spot at the North Shore&rsquo\;s most spectacular New Year&#39\;s Eve bash. </span></span><br />\n<br />\n<span style="color:black"><span style="font-size:12.0pt">Doors open at 9:00 pm and the celebration goes to 1:00 am. 21 and over\, ID required upon arrival. Cash bar. Free parking. Black-tie optional.</span></span><br />\n<br />\n<span style="color:black"><span style="font-size:12.0pt">Hammond Castle Museum member savings apply. <em>This event is generously sponsored by Cape Ann Savings Bank.</em></span></span>
LOCATION:Hammond Castle Museum 80 Hesperus Avenue Gloucester\, MA 01930
UID:e.2981.26990
SEQUENCE:3
DTSTAMP:20260421T214958Z
URL:https://business.capeannchamber.com/events/details/new-year-s-eve-at-hammond-castle-museum-26990
END:VEVENT

END:VCALENDAR
