BEGIN:VCALENDAR
VERSION:2.0
PRODID:-//ChamberMaster//Event Calendar 2.0//EN
METHOD:PUBLISH
X-PUBLISHED-TTL:P3D
REFRESH-INTERVAL:P3D
CALSCALE:GREGORIAN
BEGIN:VEVENT
DTSTART:20231230T003000Z
DTEND:20231230T020000Z
X-MICROSOFT-CDO-ALLDAYEVENT:FALSE
SUMMARY:New Orleans Jazz New Year's Celebration-Gloucester Meeting House
DESCRIPTION:Celebrate the beginning of New Year's weekend in the historic Gloucester Meetinghouse with Good Old Salty Jazz Band playing New Orleans Jazz tunes of the holiday season. This group of legendary local musicians will delight you with their fantastic sound!\n\n\n\nRobert Tuffley\, cornet & trumpet\n\nJohn Cameron\, piano\n\nJimmy Favazza\, drums\n\nJohn Hicks\, guitar & banjo\n\nDave Sag\, bass\n\nRobert Landoni\, sax & clarinet\n\nRikki Razdan\, sax & clarinet\n\nBen Tuck\, trombone\n\n\n\nLast year's New Year's concert in the Meetinghouse sold out\, so purchase your seats early! \n\nLight refreshments will be served. Side entrance with an elevator at 10 Church Street.
X-ALT-DESC;FMTTYPE=text/html:Celebrate the beginning of New Year&#39\;s weekend in the historic Gloucester Meetinghouse with Good Old Salty Jazz Band playing New Orleans Jazz tunes of the holiday season. This group of legendary local musicians will delight you with their fantastic sound!<br />\n<br />\nRobert Tuffley\, cornet &amp\; trumpet<br />\nJohn Cameron\, piano<br />\nJimmy Favazza\, drums<br />\nJohn Hicks\, guitar &amp\; banjo<br />\nDave Sag\, bass<br />\nRobert Landoni\, sax &amp\; clarinet<br />\nRikki Razdan\, sax &amp\; clarinet<br />\nBen Tuck\, trombone<br />\n<br />\nLast year&#39\;s New Year&#39\;s concert in the Meetinghouse sold out\, so purchase your seats early!&nbsp\;<br />\nLight refreshments will be served. Side entrance with an elevator at 10 Church Street.
LOCATION:Gloucester Meetinghouse
UID:e.2981.27135
SEQUENCE:3
DTSTAMP:20260421T215133Z
URL:https://business.capeannchamber.com/events/details/new-orleans-jazz-new-year-s-celebration-gloucester-meeting-house-27135
END:VEVENT

END:VCALENDAR
