BEGIN:VCALENDAR
VERSION:2.0
PRODID:-//ChamberMaster//Event Calendar 2.0//EN
METHOD:PUBLISH
X-PUBLISHED-TTL:P3D
REFRESH-INTERVAL:P3D
CALSCALE:GREGORIAN
BEGIN:VEVENT
DTSTART;VALUE=DATE:20211030
DTEND;VALUE=DATE:20211103
TRANSP:TRANSPARENT
X-MICROSOFT-CDO-ALLDAYEVENT:TRUE
SUMMARY:NEVER MISS SAVOUR COMPLIMENTARY WINE TASTINGS\, THE OCCASION TO EXPERIENCE YOUR PERSONAL TASTING\, WHEN YOU VISIT\, AT YOUR CONVENIENCE.
DESCRIPTION:NEVER MISS SAVOUR COMPLIMENTARY WINE TASTINGS\, THE OCCASION TO EXPERIENCE YOUR PERSONAL TASTING\, WHEN YOU VISIT\, AT YOUR CONVENIENCE.  \n\n\n\nWHAT: Inviting your personal "tech" wine tasting\, the occasion to sample up to 20 fine wines using our Digital Wine Machine\, throughout the day\, Tuesday thru Saturday\, at your convenience.  Using this "digital taster"\, unique on the North Shore\, couldn't be easier and\n\nit's complimentary.       \n\n\n\nWHY: For your sensory enjoyment a wine's color in the glass\, the array of aroma\, what tastings reveal learning about each wine.                   \n\n new fine wine selections are regularly added\, the opportunity to sample wines new to you.\n\n sip fine wine with imported Riedel glassware\n\n Ask Kathleen for wine to food pairing recommendations   \n\n each wine is stocked below the wine machine\n\n   \n\nWHO: Just You & "The Machine"  \n\n\n\nWHEN: Whenever you visit - Tuesday to Saturday - during business hours\, 11am to 6pm\n\n\n\nHOW: Insert a plastic card into the slot\, upper left side of each of the 4 units. Place glass\n\nbelow a spout\, and press the lit green button above the selected bottle  it's a breeze.  \n\n \n\nA Sampling of New Wines Recently Added\n\nLes Launes\, Crozes-Hermitage\, Northern Rhone Valley\, Delas\, 2018 Alc. 14% Varietal: 100% Syrah\, Alc. 14.0\, Tasting: Black raspberries\, sappy herbs\, and Christmas spice notes\, a elegant texture\, and polished tannins. Pairs well: lamb\, game (deer\, venison)\, beef\, Ratings: Jeb Dunnuck 91\, specialist Southern Fr. grapes.\n\n\n\nAllomi\, The Hess Collection\, Napa Valley\, Cabernet Sauvignon\, 2018 \, Alc. 14.4%\n\nTasting: red fruit\, herbal notes complements a dense black cherry and blackberry core\, bright acidity\, full-bodied\, smooth texture.  Pair well: game\, mature & hard cheese\, lamb\, cured meats Ratings: Wine Spectator 90\, Wine Enthusiast 90\, James Suckling 92  \n\n\n\nSan Salvatore Falanghina\, Campania\, It\, southern Italy white wine\, Varietal: Falanghina\, 2019\,  Alc. 13%\, Tasting:  This Campania white reveals the delicate interplay between blossom\, nectarines and fresh herbs\, exciting on the nose. The acidity is electric and really takes this through a wealth of layered stone fruit to a spicy finish. Ratings: James Suckling 92     \n\n\n\nSpecial Wines to Celebrate Halloween: From Tasmania\, Australia\n\n\n\nDevil's Corner Pinot Noir  2019\, Tasmania\, Australia\, Alc. 13%\, Tasting: fruit forward\, elegant dark cherry\, raspberry\, strawberry earthy oak red fruit\, vanilla\, pepper and dried cranberry. Rating: Wine Enthusiast 90  \n\n\n\nDevil's Corner Chardonnay\, 2020\, Tasmania\, Australia\, Alc. 13%\, Tasting: flavors of melon\, peach\, ginger and toasty oak nuances. It's both corpulent and refreshing\, linear and crisp\, Rating: Wine Enthusiast: 92\n\nWelcome your donation any amount (suggest $5) for Pathways for Children. Thank You!\n\n\n\nPlease Note: If you are not fully vaccinated\, please wear a mask when not tasting wines.            Welcome all wearing masks for our mutual health and well-being.   Thank you\, Kathleen\n      \n\nUpcoming Savour-Saturday Guest Host\n\nWine Tastings in November!\n\n\n\nSaturday\, November 6th\n\n2pm- 4pm\n\nCasey Gruttadauria\n\nIdeal Wine & Spirt    \n\n\n\nSaturday\, November 13th\n\n2pm-4pm\n\nGordon Alexander\n\nTerrior Wines\n\n\n\nSaturday\, November 20th\n\nFeaturing Out Digital Wine Machine\n\n  sample up to 20 fine wines                                                              \n\nTuesday - Saturday\n\nSaturday \, November 27th\n\n2pm -4pm\n\nPatrick Walsh\n\nProvence Wine Imports\, Inc.  \n\n\n                      Savour Wine & Cheese  l  76 Prospect St.  l  Gloucester l  978. 282 .1455    \n\n                                                    savourwineandcheese.com
X-ALT-DESC;FMTTYPE=text/html:<span style="font-size:14px"><strong>NEVER MISS SAVOUR COMPLIMENTARY WINE TASTINGS\, THE OCCASION TO EXPERIENCE YOUR PERSONAL TASTING\, WHEN YOU VISIT\, AT YOUR CONVENIENCE. &nbsp\;</strong></span><br />\n<br />\n<strong>WHAT: </strong>Inviting your personal &ldquo\;tech&rdquo\; wine tasting\, the occasion to sample up to 20 fine wines using our Digital Wine Machine\, throughout the day\, Tuesday thru Saturday\, at your convenience.&nbsp\; Using this &ldquo\;digital taster&rdquo\;\, unique on the North Shore\, couldn&rsquo\;t be easier&hellip\;and<br />\nit&rsquo\;s complimentary.&nbsp\; &nbsp\;&nbsp\;&nbsp\; &nbsp\;<br />\n<br />\n<strong>WHY: </strong>For your sensory enjoyment&hellip\;a wine&rsquo\;s color in the glass\, the array of aroma\, what tastings reveal&hellip\;learning about each wine.&nbsp\;&nbsp\;&nbsp\;&nbsp\;&nbsp\;&nbsp\;&nbsp\;&nbsp\;&nbsp\;&nbsp\;&nbsp\;&nbsp\;&nbsp\;&nbsp\;&nbsp\;&nbsp\;&nbsp\; &nbsp\;<br />\n&gt\;new fine wine selections are regularly added\, the opportunity to sample wines new to you.<br />\n&gt\;sip fine wine with imported Riedel glassware<br />\n&gt\;Ask Kathleen for wine to food pairing recommendations&nbsp\; &nbsp\;<br />\n&gt\;each wine is stocked below the wine machine<br />\n&nbsp\; &nbsp\;<br />\n<strong>WHO: </strong>Just You &amp\; &ldquo\;The Machine&rdquo\; &nbsp\;<br />\n<br />\n<strong>WHEN:</strong> Whenever you visit - Tuesday to Saturday - during business hours\, 11am to 6pm<br />\n<br />\n<strong>HOW:</strong> Insert a plastic card into the slot\, upper left side of each of the 4 units. Place glass<br />\nbelow a spout\, and press the lit green button above the selected bottle &hellip\;it&rsquo\;s a breeze. &nbsp\;<br />\n&nbsp\;<br />\n<span style="font-size:14px"><strong>A Sampling of New Wines Recently Added</strong></span><br />\n<strong>Les Launes\, Crozes-Hermitage\, Northern Rhone Valley\, Delas</strong>\, 2018 Alc. 14% Varietal: 100% Syrah\, Alc. 14.0\, Tasting: Black raspberries\, sappy herbs\, and Christmas spice notes\, a elegant texture\, and polished tannins. Pairs well: lamb\, game (deer\, venison)\, beef\, Ratings: Jeb Dunnuck 91\, specialist Southern Fr. grapes.<br />\n<br />\n<strong>Allomi\, The Hess Collection\, Napa Valley\, Cabernet Sauvignon\, 2018</strong> \, Alc. 14.4%<br />\nTasting: red fruit\, herbal notes complements a dense black cherry and blackberry core\, bright acidity\, full-bodied\, smooth texture.&nbsp\; Pair well: game\, mature &amp\; hard cheese\, lamb\, cured meats Ratings: Wine Spectator 90\, Wine Enthusiast 90\, James Suckling 92 &nbsp\;<br />\n<br />\n<strong>San Salvatore Falanghina\, Campania</strong>\, It\, southern Italy white wine\, Varietal: Falanghina\, 2019\,&nbsp\; Alc. 13%\, Tasting:&nbsp\; This Campania white reveals the delicate interplay between blossom\, nectarines and fresh herbs\, exciting on the nose. The acidity is electric and really takes this through a wealth of layered stone fruit to a spicy finish. Ratings: James Suckling 92&nbsp\;&nbsp\;&nbsp\; &nbsp\;<br />\n<br />\n<strong>Special Wines to Celebrate Halloween: From Tasmania\, Australia</strong><br />\n<br />\n<strong>Devil&rsquo\;s Corner Pinot Noir&nbsp\; 2019\, Tasmania\, Australia\, Alc. 13%</strong>\, Tasting: fruit forward\, elegant dark cherry\, raspberry\, strawberry earthy oak red fruit\, vanilla\, pepper and dried cranberry. Rating: Wine Enthusiast 90 &nbsp\;<br />\n<br />\n<strong>Devil&#39\;s Corner Chardonnay\, 2020\, Tasmania\, Australia\, Alc. 13%\,</strong> Tasting: flavors of melon\, peach\, ginger and toasty oak nuances. It&#39\;s both corpulent and refreshing\, linear and crisp\, Rating: Wine Enthusiast: 92<br />\nWelcome your donation any amount (suggest $5) for Pathways for Children. Thank You!<br />\n<br />\n<strong>Please Note: </strong>If you are not fully vaccinated\, please wear a mask when not tasting wines.&nbsp\;&nbsp\;&nbsp\;&nbsp\;&nbsp\;&nbsp\;&nbsp\;&nbsp\;&nbsp\;&nbsp\;&nbsp\; Welcome all wearing masks for our mutual health and well-being.&nbsp\;&nbsp\; Thank you\, Kathleen\n<div style="text-align: center\;">&nbsp\;&nbsp\;&nbsp\;&nbsp\; &nbsp\;<br />\n<strong><span style="font-size:14px">Upcoming Savour-Saturday Guest Host<br />\nWine Tastings in November!</span><br />\n<br />\nSaturday\, November 6th<br />\n2pm- 4pm<br />\nCasey Gruttadauria<br />\nIdeal Wine &amp\; Spirt&nbsp\;&nbsp\; &nbsp\;<br />\n<br />\nSaturday\, November 13th<br />\n2pm-4pm<br />\nGordon Alexander<br />\nTerrior Wines<br />\n<br />\nSaturday\, November 20th<br />\nFeaturing Out Digital Wine Machine<br />\n&nbsp\; sample up to 20 fine wines&nbsp\;&nbsp\;&nbsp\;&nbsp\;&nbsp\;&nbsp\;&nbsp\;&nbsp\;&nbsp\;&nbsp\;&nbsp\;&nbsp\;&nbsp\;&nbsp\;&nbsp\;&nbsp\;&nbsp\;&nbsp\;&nbsp\;&nbsp\;&nbsp\;&nbsp\;&nbsp\;&nbsp\;&nbsp\;&nbsp\;&nbsp\;&nbsp\;&nbsp\;&nbsp\;&nbsp\;&nbsp\;&nbsp\;&nbsp\;&nbsp\;&nbsp\;&nbsp\;&nbsp\;&nbsp\;&nbsp\;&nbsp\;&nbsp\;&nbsp\;&nbsp\;&nbsp\;&nbsp\;&nbsp\;&nbsp\;&nbsp\;&nbsp\;&nbsp\;&nbsp\;&nbsp\;&nbsp\;&nbsp\;&nbsp\;&nbsp\;&nbsp\;&nbsp\;&nbsp\; &nbsp\;<br />\nTuesday - Saturday<br />\nSaturday \, November 27th<br />\n2pm -4pm<br />\nPatrick Walsh<br />\nProvence Wine Imports\, Inc. &nbsp\;</strong></div>\n<br />\n&nbsp\;&nbsp\;&nbsp\;&nbsp\;&nbsp\;&nbsp\;&nbsp\;&nbsp\;&nbsp\;&nbsp\;&nbsp\;&nbsp\;&nbsp\;&nbsp\;&nbsp\;&nbsp\;&nbsp\;&nbsp\;&nbsp\;&nbsp\;&nbsp\; Savour Wine &amp\; Cheese&nbsp\; l&nbsp\; 76 Prospect St.&nbsp\; l&nbsp\; Gloucester l&nbsp\; 978. 282 .1455&nbsp\;&nbsp\; &nbsp\;<br />\n&nbsp\;&nbsp\;&nbsp\;&nbsp\;&nbsp\;&nbsp\;&nbsp\;&nbsp\;&nbsp\;&nbsp\;&nbsp\;&nbsp\;&nbsp\;&nbsp\;&nbsp\;&nbsp\;&nbsp\;&nbsp\;&nbsp\;&nbsp\;&nbsp\;&nbsp\;&nbsp\;&nbsp\;&nbsp\;&nbsp\;&nbsp\;&nbsp\;&nbsp\;&nbsp\;&nbsp\;&nbsp\;&nbsp\;&nbsp\;&nbsp\;&nbsp\;&nbsp\;&nbsp\;&nbsp\;&nbsp\;&nbsp\;&nbsp\;&nbsp\;&nbsp\;&nbsp\;&nbsp\;&nbsp\;&nbsp\;&nbsp\;&nbsp\;&nbsp\; savourwineandcheese.com&nbsp\;&nbsp\;
LOCATION:Savour Wine & Cheese l 76 Prospect St. l Gloucester l 978. 282 .1455 savourwineandcheese.com Free parking in Savour's private lot directly behind Savour and enter through rear entrance Contact: Kathleen\, Courtney\, Mary
UID:e.2981.21397
SEQUENCE:3
DTSTAMP:20260424T124112Z
URL:https://business.capeannchamber.com/events/details/never-miss-savour-complimentary-wine-tastings-the-occasion-to-experience-your-personal-tasting-when-you-visit-at-your-convenience-21397
END:VEVENT

END:VCALENDAR
