BEGIN:VCALENDAR
VERSION:2.0
PRODID:-//ChamberMaster//Event Calendar 2.0//EN
METHOD:PUBLISH
X-PUBLISHED-TTL:P3D
REFRESH-INTERVAL:P3D
CALSCALE:GREGORIAN
BEGIN:VEVENT
DTSTART:20250927T140000Z
DTEND:20251026T210000Z
X-MICROSOFT-CDO-ALLDAYEVENT:FALSE
SUMMARY:NESA - New England Sculptors Association Show\, Rockport Art Association & Museum
DESCRIPTION:New England Sculptors Association at the Rockport Art Association & Museum\n\nSeptember 27 - October 26\, 2025\n\nOpening Reception: September 27 from 6:00 - 8:00 PM\n\n\n\nDiscover the power of contemporary sculpture in this first-ever collaboration between NESA and RAA&M. Featuring diverse works from New England sculptors\, this exhibition celebrates creativity\, form\, and the dialogue between art and community.
X-ALT-DESC;FMTTYPE=text/html:New England Sculptors Association at the Rockport Art Association &amp\; Museum<br />\nSeptember 27 - October 26\, 2025<br />\nOpening Reception: September 27 from 6:00 - 8:00 PM<br />\n<br />\nDiscover the power of contemporary sculpture in this first-ever collaboration between NESA and RAA&amp\;M. Featuring diverse works from New England sculptors\, this exhibition celebrates creativity\, form\, and the dialogue between art and community.<br />\n<br />\n&nbsp\;
LOCATION:Rockport Art Association. & Museum 12 Main Street Rockport\, MA 01966
UID:e.2981.43133
SEQUENCE:3
DTSTAMP:20260425T011646Z
URL:https://business.capeannchamber.com/events/details/nesa-new-england-sculptors-association-show-rockport-art-association-museum-43133
END:VEVENT

END:VCALENDAR
