BEGIN:VCALENDAR
VERSION:2.0
PRODID:-//ChamberMaster//Event Calendar 2.0//EN
METHOD:PUBLISH
X-PUBLISHED-TTL:P3D
REFRESH-INTERVAL:P3D
CALSCALE:GREGORIAN
BEGIN:VEVENT
DTSTART:20241223T000000Z
DTEND:20241223T040000Z
X-MICROSOFT-CDO-ALLDAYEVENT:FALSE
SUMMARY:Nefesh Mountain - Love And Light Tour
DESCRIPTION:12/22/24\n\nReserved floor seating\, reserved rail seating\, G.A Standing. 7:00pm Doors / 7:30pm Show\n\nAll Ages (Under 18 MUST be accompanied by a parent). $30-$25\n\n\n\n"A POWERHOUSE UNIT"\n\n\n\n- ROLLING STONE\n\n\n\n\n\nThe New York based Progressive Americana group Nefesh Mountain Band has been hailed as one of the formative boundary-pushing ensembles in roots music. The band's creators and dynamic husband and wife team of Eric Lindberg and Doni Zasloff have created a world and sound all their own\; blurring the lines between Americana\, Bluegrass\, Folk\, Jazz and Blues with a masterful hand as songwriters\, instrumentalists and composers alike.\n\n\n\nFor the past 4 years the Americana powerhouse has been hitting the road on their highly anticipated yearly "Love And Light Tour". The tour aims to put forth messages of inclusivity\, unity\, diversity and love\,\n\n\n\nNefesh Mountain has recorded and shared the stage with Sam Bush\, Jerry Douglas\, Bryan Sutton\, John Doyle\, Noam Pikelny (Punch Brothers)\, Mark Schatz (Be`la Fleck\, Nickel Creek)\, Mike Gordon (Phish) and Tony Trischka among many others. The Troubadours along with their band continue to forge new paths in unknown territory\, armed with Zasloff and Lindberg's strong\, smokey\, and folksy vocals and Lindberg's soulful and masterful skills on acoustic and electric guitars and banjo.
X-ALT-DESC;FMTTYPE=text/html:<span style="color:rgb(64\, 64\, 65)\; font-family:open sans\,sans-serif\; font-size:14px">12/22/24</span><br />\n<span style="color:rgb(64\, 64\, 65)\; font-family:open sans\,sans-serif\; font-size:14px">Reserved floor seating\, reserved rail seating\, G.A Standing. 7:00pm Doors / 7:30pm Show</span><br />\n<span style="color:rgb(64\, 64\, 65)\; font-family:open sans\,sans-serif\; font-size:14px">All Ages (Under 18&nbsp\;</span><strong>MUST</strong><span style="color:rgb(64\, 64\, 65)\; font-family:open sans\,sans-serif\; font-size:14px">&nbsp\;be accompanied by a parent). $30-$25</span><br />\n<br />\n<strong>&ldquo\;A POWERHOUSE UNIT&rdquo\;</strong><br />\n<br />\n<strong>- ROLLING STONE</strong><br />\n<br />\n<br />\n<span style="color:rgb(64\, 64\, 65)\; font-family:open sans\,sans-serif\; font-size:14px">The New York based Progressive Americana group Nefesh Mountain Band has been hailed as one of the formative boundary-pushing ensembles in roots music. The band&#39\;s creators and dynamic husband and wife team of Eric Lindberg and Doni Zasloff have created a world and sound all their own\; blurring the lines between Americana\, Bluegrass\, Folk\, Jazz and Blues with a masterful hand as songwriters\, instrumentalists and composers alike.</span><br />\n<br />\n<span style="color:rgb(64\, 64\, 65)\; font-family:open sans\,sans-serif\; font-size:14px">For the past 4 years the Americana powerhouse has been hitting the road on their highly anticipated yearly &ldquo\;Love And Light Tour&rdquo\;. The tour aims to put forth messages of inclusivity\, unity\, diversity and love\,</span><br />\n<br />\n<span style="color:rgb(64\, 64\, 65)\; font-family:open sans\,sans-serif\; font-size:14px">Nefesh Mountain has recorded and shared the stage with Sam Bush\, Jerry Douglas\, Bryan Sutton\, John Doyle\, Noam Pikelny (Punch Brothers)\, Mark Schatz (Be`la Fleck\, Nickel Creek)\, Mike Gordon (Phish) and Tony Trischka among many others. The Troubadours along with their band continue to forge new paths in unknown territory\, armed with Zasloff and Lindberg&rsquo\;s strong\, smokey\, and folksy vocals and Lindberg&rsquo\;s soulful and masterful skills on acoustic and electric guitars and banjo.</span>
LOCATION:The Cut 177 Main Street Gloucester\, MA 01930
UID:e.2981.33049
SEQUENCE:3
DTSTAMP:20260424T152617Z
URL:https://business.capeannchamber.com/events/details/nefesh-mountain-love-and-light-tour-33049
END:VEVENT

END:VCALENDAR
