BEGIN:VCALENDAR
VERSION:2.0
PRODID:-//ChamberMaster//Event Calendar 2.0//EN
METHOD:PUBLISH
X-PUBLISHED-TTL:P3D
REFRESH-INTERVAL:P3D
CALSCALE:GREGORIAN
BEGIN:VEVENT
DTSTART:20250412T150000Z
DTEND:20250412T170000Z
X-MICROSOFT-CDO-ALLDAYEVENT:FALSE
SUMMARY:NEC Honors Ensemble Showcase
DESCRIPTION:Come hear talented\, developing artists from the New England Conservatory's Honors Ensemble and enjoy a wide range of music from classical to jazz!
X-ALT-DESC;FMTTYPE=text/html:<p><span style="background-color:rgb(250\, 250\, 250)\; color:rgb(0\, 0\, 0)\; font-family:open sans\,helvetica neue\,helvetica\,arial\,sans-serif\; font-size:18px">Come hear talented\, developing artists from the New England Conservatory&#39\;s Honors Ensemble and enjoy a wide range of music from classical to jazz!</span></p>\n
LOCATION:37 Main St\, Rockport\, MA 01966
UID:e.2981.35182
SEQUENCE:3
DTSTAMP:20260424T140434Z
URL:https://business.capeannchamber.com/events/details/nec-honors-ensemble-showcase-04-12-2025-35182
END:VEVENT

END:VCALENDAR
