BEGIN:VCALENDAR
VERSION:2.0
PRODID:-//ChamberMaster//Event Calendar 2.0//EN
METHOD:PUBLISH
X-PUBLISHED-TTL:P3D
REFRESH-INTERVAL:P3D
CALSCALE:GREGORIAN
BEGIN:VEVENT
DTSTART:20221127T180000Z
DTEND:20221127T200000Z
X-MICROSOFT-CDO-ALLDAYEVENT:FALSE
SUMMARY:National Theatre in HD: The Seagull
DESCRIPTION:Emilia Clarke (Game of Thrones) makes her West End debut in this 21st century retelling of Anton Chekhov's tale of love and loneliness.
X-ALT-DESC;FMTTYPE=text/html:Emilia Clarke (Game of Thrones) makes her West End debut in this 21st century retelling of Anton Chekhov&rsquo\;s tale of love and loneliness.
LOCATION:Shalin Liu Performance Center 37 Main Street Rockport\, MA
UID:e.2981.23090
SEQUENCE:3
DTSTAMP:20260424T123909Z
URL:https://business.capeannchamber.com/events/details/national-theatre-in-hd-the-seagull-23090
END:VEVENT

END:VCALENDAR
