BEGIN:VCALENDAR
VERSION:2.0
PRODID:-//ChamberMaster//Event Calendar 2.0//EN
METHOD:PUBLISH
X-PUBLISHED-TTL:P3D
REFRESH-INTERVAL:P3D
CALSCALE:GREGORIAN
BEGIN:VEVENT
DTSTART:20221029T170000Z
DTEND:20221029T190000Z
X-MICROSOFT-CDO-ALLDAYEVENT:FALSE
SUMMARY:National Theatre in HD: Frankenstein
DESCRIPTION:Directed by Academy Award winner Danny Boyle (Trainspotting\, Slumdog Millionaire)\, Frankenstein features Benedict Cumberbatch (Hamlet\, BBC's Sherlock) and Jonny Lee Miller (Elementary\, Trainspotting) alternating between the roles of Victor Frankenstein and his creation.
X-ALT-DESC;FMTTYPE=text/html:<span style="background-color:rgb(250\, 250\, 250)\; color:rgb(0\, 0\, 0)\; font-family:open sans\,helvetica neue\,helvetica\,arial\,sans-serif\; font-size:18px">Directed by Academy Award winner Danny Boyle (Trainspotting\,&nbsp\;Slumdog Millionaire)\,&nbsp\;Frankenstein&nbsp\;features Benedict Cumberbatch (Hamlet\, BBC&rsquo\;s&nbsp\;Sherlock) and Jonny Lee Miller (Elementary\,&nbsp\;Trainspotting) alternating between the roles of Victor Frankenstein and his creation.</span>
LOCATION:Shalin Liu Performance Center 37 Main St. Rockport\, MA 0196
UID:e.2981.23035
SEQUENCE:3
DTSTAMP:20260424T123631Z
URL:https://business.capeannchamber.com/events/details/national-theatre-in-hd-frankenstein-23035
END:VEVENT

END:VCALENDAR
