BEGIN:VCALENDAR
VERSION:2.0
PRODID:-//ChamberMaster//Event Calendar 2.0//EN
METHOD:PUBLISH
X-PUBLISHED-TTL:P3D
REFRESH-INTERVAL:P3D
CALSCALE:GREGORIAN
BEGIN:VEVENT
DTSTART:20210819T220000Z
DTEND:20210820T000000Z
X-MICROSOFT-CDO-ALLDAYEVENT:FALSE
SUMMARY:Music Night with Daisy Nell & Captain Stan & the Crabgrass Band aboard the Schooner Ardelle
DESCRIPTION:Enjoy a relaxing sunset sail aboard the Schooner Ardelle with music by Daisy Nell & Captain Stan & The Crabgrass Band!\n\n\n\nDaisy Nell & Captain Stan & the Crabgrass band specialize in traditional and contemporary songs of the sea and shore\, with local Cape Ann flavor and lore.\n\nDaisy Nell\, native of Essex\, MA\, mainstay of the shipbuilding industry for over 300 years\, brings alive New England's maritime history through traditional songs of the sea. A familiar voice on the North Shore music scene\, she is known for her broad repertoire of traditional folk\, chanteys\, and contemporary songs.
X-ALT-DESC;FMTTYPE=text/html:<p>Enjoy a relaxing sunset sail aboard the Schooner Ardelle with music by Daisy Nell &amp\; Captain Stan &amp\; The Crabgrass Band!<br />\n<br />\nDaisy Nell &amp\; Captain Stan &amp\; the Crabgrass band specialize in&nbsp\;traditional and contemporary songs of the sea and shore\, with local Cape Ann flavor and lore.</p>\n\n<p>Daisy Nell\, native of Essex\, MA\, mainstay of the shipbuilding&nbsp\;industry for over 300 years\, brings alive New England&#39\;s maritime history through traditional songs of the sea. A familiar voice on the North Shore music scene\, she is known for her broad repertoire of traditional folk\, chanteys\, and contemporary songs.&nbsp\;</p>\n\n<p>&nbsp\;</p>\n
LOCATION:
UID:e.2981.21202
SEQUENCE:3
DTSTAMP:20260422T041812Z
URL:https://business.capeannchamber.com/events/details/music-night-with-daisy-nell-captain-stan-the-crabgrass-band-aboard-the-schooner-ardelle-21202
END:VEVENT

END:VCALENDAR
