BEGIN:VCALENDAR
VERSION:2.0
PRODID:-//ChamberMaster//Event Calendar 2.0//EN
METHOD:PUBLISH
X-PUBLISHED-TTL:P3D
REFRESH-INTERVAL:P3D
CALSCALE:GREGORIAN
BEGIN:VEVENT
DTSTART:20250416T170000Z
DTEND:20250416T173000Z
X-MICROSOFT-CDO-ALLDAYEVENT:FALSE
SUMMARY:Music in the Gallery
DESCRIPTION:Join us Wednesdays\, April   June in the James Center Gallery to enjoy music during your visit played by C.B. Fisk musicians on a continuo organ. For more information about C.B. Fisk please visit: www.cbfisk.com.  \n\n \n\nC.B. Fisk organists: Carl Klein\, Tim McEwen\, Ted Stoddard\, Michael Kraft\, Barbara Bruns\, Mark Nelson\, David Pike\, along with Kathleen Adams. For biographies please visit: cbfisk.com \nImage Credit: Opus 150\, designed by C.B. Fisk in 2018 for Christ Church Episcopal\, Philadelphia\, PA. Photo courtesy of C.B. Fisk.
X-ALT-DESC;FMTTYPE=text/html:<span style="font-family:archivo\; font-size:19px">Join us Wednesdays\, April &ndash\; June in the James Center Gallery to enjoy music during your visit played by C.B. Fisk musicians on a continuo organ. For more information about C.B. Fisk please visit:&nbsp\;<a href="https://cbfisk.com/" rel="noopener" style="box-sizing: border-box\; margin: 0px\; padding: 0px\; border-width: 0px 0px 1px\; border-top-style: initial\; border-right-style: initial\; border-bottom-style: solid\; border-left-style: initial\; border-color: rgb(211\, 211\, 211)\; border-image: initial\; font-variant: inherit\; font-weight: inherit\; font-stretch: inherit\; font-size: inherit\; line-height: inherit\; font-family: inherit\; font-optical-sizing: inherit\; font-size-adjust: inherit\; font-kerning: inherit\; font-feature-settings: inherit\; font-variation-settings: inherit\; vertical-align: baseline\; text-decoration-line: none\; outline: 0px\; max-width: 100%\; color: rgb(37\, 119\, 160)\; transition: color 0.2s\;" target="_blank">www.cbfisk.com</a>.&nbsp\;</span><span style="font-family:archivo\; font-size:19px">&nbsp\;</span><br />\n<span style="font-family:archivo\; font-size:19px">&nbsp\;</span><br />\n<span style="font-family:archivo\; font-size:19px">C.B. Fisk organists: Carl Klein\, Tim McEwen\, Ted Stoddard\, Michael Kraft\, Barbara Bruns\, Mark Nelson\, David Pike\, along with Kathleen Adams. For biographies please visit:&nbsp\;</span><a href="https://cbfisk.com/staff/" style="box-sizing: border-box\; margin: 0px\; padding: 0px\; border-width: 0px 0px 1px\; border-top-style: initial\; border-right-style: initial\; border-bottom-style: solid\; border-left-style: initial\; border-color: rgb(211\, 211\, 211)\; border-image: initial\; font-variant-numeric: inherit\; font-variant-east-asian: inherit\; font-variant-alternates: inherit\; font-variant-position: inherit\; font-variant-emoji: inherit\; font-stretch: inherit\; font-size: 19px\; line-height: inherit\; font-family: Archivo\; font-optical-sizing: inherit\; font-size-adjust: inherit\; font-kerning: inherit\; font-feature-settings: inherit\; font-variation-settings: inherit\; vertical-align: baseline\; text-decoration-line: none\; outline: 0px\; max-width: 100%\; color: rgb(37\, 119\, 160)\; transition: color 0.2s\;">cbfisk.com</a><span style="font-family:archivo\; font-size:19px">&nbsp\;</span>\n<p><em>Image Credit: Opus 150\, designed by C.B. Fisk in 2018 for Christ Church Episcopal\, Philadelphia\, PA. Photo courtesy of C.B. Fisk.</em></p>\n
LOCATION:Janet & William Ellery James Center at CAM Green 13 Poplar Street\, Gloucester\, MA
UID:e.2981.35912
SEQUENCE:3
DTSTAMP:20260424T152617Z
URL:https://business.capeannchamber.com/events/details/music-in-the-gallery-35912
END:VEVENT

END:VCALENDAR
