BEGIN:VCALENDAR
VERSION:2.0
PRODID:-//ChamberMaster//Event Calendar 2.0//EN
METHOD:PUBLISH
X-PUBLISHED-TTL:P3D
REFRESH-INTERVAL:P3D
CALSCALE:GREGORIAN
BEGIN:VEVENT
DTSTART:20250928T210000Z
DTEND:20250928T230000Z
X-MICROSOFT-CDO-ALLDAYEVENT:FALSE
SUMMARY:Music at the Inn
DESCRIPTION:Emerson Inn's Music in the Parlor presents-\n\n\n\nRPS3\n\n\n\nRhythm Plus Soul\n\nThe Jazz Trio\n\nfeaturing Doug Rich\, Patrick Mottaz  and Renato Malavasi
X-ALT-DESC;FMTTYPE=text/html:<span style="font-size:14px\;"><strong>Emerson Inn&#39\;s Music in the Parlor presents-</strong></span><br />\n<br />\n<span style="font-size:20px\;"><span style="color:#800000\;"><strong>RPS3</strong></span></span><br />\n<br />\n<strong>Rhythm Plus Soul</strong><br />\nThe Jazz Trio<br />\nfeaturing Doug Rich\, Patrick Mottaz&nbsp\; and Renato Malavasi
LOCATION:
UID:e.2981.44860
SEQUENCE:3
DTSTAMP:20260422T104727Z
URL:https://business.capeannchamber.com/events/details/music-at-the-inn-44860
END:VEVENT

END:VCALENDAR
