BEGIN:VCALENDAR
VERSION:2.0
PRODID:-//ChamberMaster//Event Calendar 2.0//EN
METHOD:PUBLISH
X-PUBLISHED-TTL:P3D
REFRESH-INTERVAL:P3D
CALSCALE:GREGORIAN
BEGIN:VEVENT
DTSTART:20250804T223000Z
DTEND:20250805T003000Z
X-MICROSOFT-CDO-ALLDAYEVENT:FALSE
SUMMARY:Music at the Beach Presents Dire Wolf
DESCRIPTION:Please join your neighbors and friends at the Back Beach bandstand to enjoy the music of Dire Wolf\, and welcome their return to this fantastic location and summer concert series!\n\n\n\nThey are very excited to announce that Jim "Jimbo" Harris (Playing Dead) will be joining the band to perform all your Bob Weir favorites!\n\n\n\nGet there early\, enjoy some beach time and great music at this awesome spot!
X-ALT-DESC;FMTTYPE=text/html:<div>Please join your neighbors and friends at the Back Beach bandstand to enjoy the music of <a href="https://www.facebook.com/direwolfnorthshore">Dire Wolf</a>\, and welcome their return to this fantastic location and summer concert series!</div>\n\n<div><br />\nThey are very excited to announce that Jim &ldquo\;Jimbo&rdquo\; Harris (Playing Dead) will be joining the band to perform all your Bob Weir favorites!</div>\n\n<div><br />\nGet there early\, enjoy some beach time and great music at this awesome spot!</div>\n
LOCATION:Bandstand at Back Beach\, Rockport\, MA.
UID:e.2981.41375
SEQUENCE:3
DTSTAMP:20260424T235313Z
URL:https://business.capeannchamber.com/events/details/music-at-the-beach-presents-dire-wolf-41375
END:VEVENT

END:VCALENDAR
