BEGIN:VCALENDAR
VERSION:2.0
PRODID:-//ChamberMaster//Event Calendar 2.0//EN
METHOD:PUBLISH
X-PUBLISHED-TTL:P3D
REFRESH-INTERVAL:P3D
CALSCALE:GREGORIAN
BEGIN:VEVENT
DTSTART:20251102T000000Z
DTEND:20251102T030000Z
X-MICROSOFT-CDO-ALLDAYEVENT:FALSE
SUMMARY:Motor Booty Affair at The Cut
DESCRIPTION:Motor Booty Affair has been lighting up stages across America with their\n\n70's extravaganza for several years\, continually improving on the show that\n\nhas been dubbed "The Ultimate Disco Party Band".\n\nThe music is infectious - the most danceable songs of all time. The band is\n\ntighter than tight\, delivering dance floor classics with confidence\, groove\,\n\nstyle and attitude. The show is spectacular - from the afros\, bell-bottoms\,\n\nplatform shoes\, polyester and dance moves\, to the highest quality sound\n\nand light show this side of 1975.\n\nMotor Booty Affair consists of 4 funkateers straight from the planet Funktar\;\n\nSuperfly\, Spanish Fly\, Vinnie Boom-Boom Funktonio and Cyclone Link Sky\n\nwalker Jr. It is their mission to get the crowd groovin' as they deliver hits\n\nfrom Earth Wind & Fire\, The Bee-Gees\, KC and the Sunshine Band\, Chic\,\n\nThe Commodores\, Barry White\, Abba and more. The songs are authentically\n\nreproduced by these top notch musicians with unsurpassed quality and attention to detail.\n\nMBA's show is energetic and peppered with 70's lingo jive talkin' and stage\n\nantics to make for an event you will never forget. Make sure you bring your\n\nboogie shoes because no matter how big the dance floor is - it's always\n\npacked from the first song to the last!
X-ALT-DESC;FMTTYPE=text/html:<span style="color:rgb(64\, 64\, 65)\; font-family:open sans\,sans-serif\; font-size:14px">Motor Booty Affair has been lighting up stages across America with their</span><br />\n<span style="color:rgb(64\, 64\, 65)\; font-family:open sans\,sans-serif\; font-size:14px">70&rsquo\;s extravaganza for several years\, continually improving on the show that</span><br />\n<span style="color:rgb(64\, 64\, 65)\; font-family:open sans\,sans-serif\; font-size:14px">has been dubbed &ldquo\;The Ultimate Disco Party Band&rdquo\;.</span><br />\n<span style="color:rgb(64\, 64\, 65)\; font-family:open sans\,sans-serif\; font-size:14px">The music is infectious - the most danceable songs of all time. The band is</span><br />\n<span style="color:rgb(64\, 64\, 65)\; font-family:open sans\,sans-serif\; font-size:14px">tighter than tight\, delivering dance floor classics with confidence\, groove\,</span><br />\n<span style="color:rgb(64\, 64\, 65)\; font-family:open sans\,sans-serif\; font-size:14px">style and attitude. The show is spectacular - from the afros\, bell-bottoms\,</span><br />\n<span style="color:rgb(64\, 64\, 65)\; font-family:open sans\,sans-serif\; font-size:14px">platform shoes\, polyester and dance moves\, to the highest quality sound</span><br />\n<span style="color:rgb(64\, 64\, 65)\; font-family:open sans\,sans-serif\; font-size:14px">and light show this side of 1975.</span><br />\n<span style="color:rgb(64\, 64\, 65)\; font-family:open sans\,sans-serif\; font-size:14px">Motor Booty Affair consists of 4 funkateers straight from the planet Funktar\;</span><br />\n<span style="color:rgb(64\, 64\, 65)\; font-family:open sans\,sans-serif\; font-size:14px">Superfly\, Spanish Fly\, Vinnie Boom-Boom Funktonio and Cyclone Link Sky</span><br />\n<span style="color:rgb(64\, 64\, 65)\; font-family:open sans\,sans-serif\; font-size:14px">walker Jr. It is their mission to get the crowd groovin&rsquo\; as they deliver hits</span><br />\n<span style="color:rgb(64\, 64\, 65)\; font-family:open sans\,sans-serif\; font-size:14px">from Earth Wind &amp\; Fire\, The Bee-Gees\, KC and the Sunshine Band\, Chic\,</span><br />\n<span style="color:rgb(64\, 64\, 65)\; font-family:open sans\,sans-serif\; font-size:14px">The Commodores\, Barry White\, Abba and more. The songs are authentically</span><br />\n<span style="color:rgb(64\, 64\, 65)\; font-family:open sans\,sans-serif\; font-size:14px">reproduced by these top notch musicians with unsurpassed quality and at</span><span style="color:rgb(64\, 64\, 65)\; font-family:open sans\,sans-serif\; font-size:14px">tention to detail.</span><br />\n<span style="color:rgb(64\, 64\, 65)\; font-family:open sans\,sans-serif\; font-size:14px">MBA&rsquo\;s show is energetic and peppered with 70&rsquo\;s lingo jive talkin&rsquo\; and stage</span><br />\n<span style="color:rgb(64\, 64\, 65)\; font-family:open sans\,sans-serif\; font-size:14px">antics to make for an event you will never forget. Make sure you bring your</span><br />\n<span style="color:rgb(64\, 64\, 65)\; font-family:open sans\,sans-serif\; font-size:14px">boogie shoes because no matter how big the dance floor is - it&rsquo\;s always</span><br />\n<span style="color:rgb(64\, 64\, 65)\; font-family:open sans\,sans-serif\; font-size:14px">packed from the first song to the last!</span>
LOCATION:The Cut 177 Main St Gloucester\, MA 01930
UID:e.2981.44863
SEQUENCE:3
DTSTAMP:20260422T073245Z
URL:https://business.capeannchamber.com/events/details/motor-booty-affair-at-the-cut-44863
END:VEVENT

END:VCALENDAR
