BEGIN:VCALENDAR
VERSION:2.0
PRODID:-//ChamberMaster//Event Calendar 2.0//EN
METHOD:PUBLISH
X-PUBLISHED-TTL:P3D
REFRESH-INTERVAL:P3D
CALSCALE:GREGORIAN
BEGIN:VEVENT
DTSTART:20260305T133000Z
DTEND:20260305T153000Z
X-MICROSOFT-CDO-ALLDAYEVENT:FALSE
SUMMARY:Morning Momentum: Conversations that “Break the Ice”
DESCRIPTION:Download Flyer\n\n\n\nMorning Momentum: Conversations that "Break the Ice"\n\nConnect with purpose. Build relationships. Gain momentum.\n\n\n\nKick-start your day with energy\, connection\, and confidence at Morning Momentum: Conversations that "Break the Ice." Set inside the cozy\, waterfront dining igloos at Mile Marker One\, this unique morning gathering is designed to warm up your network and your outlook before the workday even begins.\n\n\n\nThrough a series of fast-paced\, friendly conversations\, you'll connect with business professionals from across Greater Cape Ann. Share ideas\, spark opportunities\, and build meaningful relationships in an environment that's welcoming\, supportive\, and just the right amount of fun. Whether you're growing a business\, building your career\, or expanding your circle\, this is networking that feels natural and productive.\n\n\n\nWhy you'll love it\n\n\n	Break the ice with quick\, engaging conversations\n	Make genuine connections in a relaxed\, inspiring setting\n	Exchange ideas\, referrals\, and encouragement\n	Enjoy coffee & muffins with harbor views inside a one-of-a-kind igloo experience\n\n\nEvent Details\n\n  Wednesday\, March 5\n\n  8:30 AM - 10:30 AM \n\n  Dining Igloos at Mile Marker One\, Gloucester\n\n\n\nFree for members\; Non-members $15\n\nSponsored by the Businesswomen's Committee - All invited to attend\n\nCoffee\, tea. and muffins provided\n\nChildcare is available\, but you must sign up in advance.\n\n\n\nAll are invited to join in! Come curious. Leave energized.\n\nBecause sometimes\, all it takes to build momentum is a great conversation!
X-ALT-DESC;FMTTYPE=text/html:<p><span style="font-size:16px\;"><strong><a href="https://chambermaster.blob.core.windows.net/userfiles/UserFiles/chambers/2981/File/Morning-Momentum-Flyer.pdf">Download Flyer</a><br />\n<br />\nMorning Momentum: Conversations that &ldquo\;Break the Ice&rdquo\;</strong></span><br />\n<em>Connect with purpose. Build relationships. Gain momentum.</em><br />\n<br />\nKick-start your day with energy\, connection\, and confidence at <strong>Morning Momentum: Conversations that &ldquo\;Break the Ice.&rdquo\;</strong> Set inside the cozy\, waterfront dining igloos at <strong>Mile Marker One</strong>\, this unique morning gathering is designed to warm up your network&mdash\;and your outlook&mdash\;before the workday even begins.<br />\n<br />\nThrough a series of fast-paced\, friendly conversations\, you&rsquo\;ll connect with business professionals from across Greater Cape Ann. Share ideas\, spark opportunities\, and build meaningful relationships in an environment that&rsquo\;s welcoming\, supportive\, and just the right amount of fun. Whether you&rsquo\;re growing a business\, building your career\, or expanding your circle\, this is networking that feels natural&mdash\;and productive.<br />\n<br />\n<strong>Why you&rsquo\;ll love it</strong></p>\n\n<ul>\n	<li>Break the ice with quick\, engaging conversations</li>\n	<li>Make genuine connections in a relaxed\, inspiring setting</li>\n	<li>Exchange ideas\, referrals\, and encouragement</li>\n	<li>Enjoy coffee &amp\; muffins with harbor views&mdash\;inside a one-of-a-kind igloo experience</li>\n</ul>\n\n<p><strong>Event Details</strong><br />\n<span style="font-family:segoe ui emoji\,sans-serif\;">&#128197\;</span> <strong>Wednesday\, March 5</strong><br />\n<span style="font-family:segoe ui emoji\,sans-serif\;">&#9200\;</span> <strong>8:30 AM - 10:30 AM&nbsp\;</strong><br />\n<span style="font-family:segoe ui emoji\,sans-serif\;">&#128205\;</span> <strong>Dining Igloos at Mile Marker One\, Gloucester</strong><br />\n<br />\nFree for members\; Non-members $15<br />\nSponsored by the Businesswomen&#39\;s Committee - All invited to attend<br />\nCoffee\, tea. and muffins provided<br />\n<em>Childcare is available\, but you must sign up in advance.</em><br />\n<br />\n<span style="color:#FF0000\;"><strong><em>All are invited to join in! Come curious. Leave energized.<br />\nBecause sometimes\, all it takes to build momentum is a great conversation!</em></strong></span></p>\n
LOCATION:75 Essex Avenue Gloucester\, MA 01930
UID:e.2981.46147
SEQUENCE:3
DTSTAMP:20260425T123701Z
URL:https://business.capeannchamber.com/events/details/morning-momentum-conversations-that-break-the-ice-46147
END:VEVENT

END:VCALENDAR
