BEGIN:VCALENDAR
VERSION:2.0
PRODID:-//ChamberMaster//Event Calendar 2.0//EN
METHOD:PUBLISH
X-PUBLISHED-TTL:P3D
REFRESH-INTERVAL:P3D
CALSCALE:GREGORIAN
BEGIN:VEVENT
DTSTART:20231209T150000Z
DTEND:20231209T220000Z
X-MICROSOFT-CDO-ALLDAYEVENT:FALSE
SUMMARY:Middle Street Walk
DESCRIPTION:The Second Saturday of each month\, the Cape Ann Museum is free for all Cape Ann Residents. Visitors of all ages are invited to head down to the CAM Studio during their visit to participate in a new art project. \n\nOn Saturday\, December 9\, the Cape Ann Museum is proud to be a partner of the Middle Street Walk. Join us at the Museum for a series of free winter events highlighting the Davis House and Folly Cove Designers. Stop by the CAM Courtyard to take a selfie with the Lobster Trap Lighthouse! \n\nIn the CAM Studio from 2:00   4:00 pm\, make a block-printed ornament in gold and silver to give as a gift or decorate your house. The Folly Cove Designers inspired a sense of place through their famous prints on textiles and household wares. Visit the galleries to see their work and come to the CAM Studio to make a block printed ornament in gold and silver\, based on lessons Virginia Lee Burton created to teach her students.?
X-ALT-DESC;FMTTYPE=text/html:<p><span style="font-family:inherit">The Second Saturday of each month\, the Cape Ann Museum is free for all Cape Ann Residents. Visitors of all ages are invited to head down to the CAM Studio during their visit to participate in a new art project.</span><span style="font-family:inherit">&nbsp\;</span></p>\n\n<p><span style="font-family:inherit"><span style="font-family:inherit">On Saturday</span><span style="font-family:inherit">\,</span><span style="font-family:inherit">&nbsp\;December&nbsp\;</span><span style="font-family:inherit">9</span><span style="font-family:inherit">\, the Cape Ann Museum is proud to be a partner of the Middle Street Walk. Join us&nbsp\;</span><span style="font-family:inherit">at</span><span style="font-family:inherit">&nbsp\;the Museum for a series of free winter events highlighting the Davis House and Folly Cove Designers.</span><span style="font-family:inherit">&nbsp\;Stop by the CAM Courtyard to take a selfie with the Lobster Trap Lighthouse!</span></span><span style="font-family:inherit">&nbsp\;</span></p>\n\n<p><span style="font-family:inherit"><span style="font-family:inherit">In the CAM Studio from&nbsp\;</span><span style="font-family:inherit">2:00 &ndash\; 4:00 pm</span><span style="font-family:inherit">\,&nbsp\;</span><span style="font-family:inherit">make a block-printed ornament in gold and silver to give as a gift or decorate your house.&nbsp\;</span><span style="font-family:inherit">The Folly Cove Designers inspired a sense of place through their famous prints on textiles and household wares. Visit the galleries to see their work and come to the CAM Studio to make a block printed ornament in gold and silver\, based on lessons Virginia Lee Burton created to&nbsp\;</span><span style="font-family:inherit">teach</span><span style="font-family:inherit">&nbsp\;her students.</span><span style="font-family:inherit">?</span></span><span style="font-family:inherit">&nbsp\;</span></p>\n
LOCATION:Cape Ann Museum 27 Pleasant St\, Gloucester MA 01930
UID:e.2981.26610
SEQUENCE:3
DTSTAMP:20260421T214949Z
URL:https://business.capeannchamber.com/events/details/middle-street-walk-12-09-2023-26610
END:VEVENT

END:VCALENDAR
