BEGIN:VCALENDAR
VERSION:2.0
PRODID:-//ChamberMaster//Event Calendar 2.0//EN
METHOD:PUBLISH
X-PUBLISHED-TTL:P3D
REFRESH-INTERVAL:P3D
CALSCALE:GREGORIAN
BEGIN:VEVENT
DTSTART:20250826T230000Z
DTEND:20250827T010000Z
X-MICROSOFT-CDO-ALLDAYEVENT:FALSE
SUMMARY:Metropolitan Opera in HD: Rigoletto
DESCRIPTION:In this electric performance from 2013\, baritone ?eljko Lucic sings the title role in Michael Mayer's 1960s-era production of Verdi's great drama\, sharing the stage with soprano Diana Damrau and tenor Piotr Beczala. Michele Mariotti conducts.
X-ALT-DESC;FMTTYPE=text/html:<p><span style="color:rgb(0\, 0\, 0)\; font-family:open sans\,arial\,helvetica\,sans-serif\; font-size:16px">In this electric performance from 2013\, baritone ?eljko Lucic sings the title role in Michael Mayer&rsquo\;s 1960s-era production of Verdi&rsquo\;s&nbsp\;great drama\, sharing the stage with soprano Diana Damrau and tenor Piotr Beczala. Michele Mariotti conducts.</span></p>\n
LOCATION:37 Main St\, Rockport\, MA 01966
UID:e.2981.36778
SEQUENCE:3
DTSTAMP:20260424T235200Z
URL:https://business.capeannchamber.com/events/details/metropolitan-opera-in-hd-rigoletto-36778
END:VEVENT

END:VCALENDAR
