BEGIN:VCALENDAR
VERSION:2.0
PRODID:-//ChamberMaster//Event Calendar 2.0//EN
METHOD:PUBLISH
X-PUBLISHED-TTL:P3D
REFRESH-INTERVAL:P3D
CALSCALE:GREGORIAN
BEGIN:VEVENT
DTSTART:20250819T230000Z
DTEND:20250820T010000Z
X-MICROSOFT-CDO-ALLDAYEVENT:FALSE
SUMMARY:Metropolitan Opera in HD: Lucia Di Lammermoor
DESCRIPTION:Donizetti's tragedy returns to cinemas\, starring soprano Nadine Sierra and tenor Javier Camarena in this 2022 performance of Simon Stone's gripping\, modern-day staging. Riccardo Frizza conducts.
X-ALT-DESC;FMTTYPE=text/html:<p><span style="color:rgb(0\, 0\, 0)\; font-family:open sans\,arial\,helvetica\,sans-serif\; font-size:16px">Donizetti&rsquo\;s tragedy returns to cinemas\, starring soprano Nadine Sierra and tenor Javier Camarena in this 2022 performance of Simon Stone&rsquo\;s gripping\, modern-day staging. Riccardo Frizza conducts.</span></p>\n
LOCATION:37 Main St\, Rockport\, MA 01966
UID:e.2981.36775
SEQUENCE:3
DTSTAMP:20260424T235812Z
URL:https://business.capeannchamber.com/events/details/metropolitan-opera-in-hd-lucia-di-lammermoor-36775
END:VEVENT

END:VCALENDAR
