BEGIN:VCALENDAR
VERSION:2.0
PRODID:-//ChamberMaster//Event Calendar 2.0//EN
METHOD:PUBLISH
X-PUBLISHED-TTL:P3D
REFRESH-INTERVAL:P3D
CALSCALE:GREGORIAN
BEGIN:VEVENT
DTSTART:20250805T230000Z
DTEND:20250806T013000Z
X-MICROSOFT-CDO-ALLDAYEVENT:FALSE
SUMMARY:Metropolitan Opera in HD: La Traviata
DESCRIPTION:Michael Mayer's sumptuous production of Verdi's beloved tragedy returns\, featuring soprano Diana Damrau and tenor Juan Diego Fl rez in this 2018 performance. Yannick N zet-S guin conducts.
X-ALT-DESC;FMTTYPE=text/html:<p><span style="color:rgb(0\, 0\, 0)\; font-family:open sans\,arial\,helvetica\,sans-serif\; font-size:16px">Michael Mayer&rsquo\;s sumptuous production of Verdi&rsquo\;s beloved tragedy returns\, featuring soprano Diana Damrau and tenor Juan Diego Fl&oacute\;rez in this 2018 performance. Yannick N&eacute\;zet-S&eacute\;guin conducts.</span></p>\n
LOCATION:37 Main St\, Rockport\, MA 01966
UID:e.2981.36764
SEQUENCE:3
DTSTAMP:20260424T235201Z
URL:https://business.capeannchamber.com/events/details/metropolitan-opera-in-hd-36764
END:VEVENT

END:VCALENDAR
