BEGIN:VCALENDAR
VERSION:2.0
PRODID:-//ChamberMaster//Event Calendar 2.0//EN
METHOD:PUBLISH
X-PUBLISHED-TTL:P3D
REFRESH-INTERVAL:P3D
CALSCALE:GREGORIAN
BEGIN:VEVENT
DTSTART:20250603T220000Z
DTEND:20250603T230000Z
X-MICROSOFT-CDO-ALLDAYEVENT:FALSE
SUMMARY:Methuselah's Zoo: What Nature Can Teach Us About Living Longer Lives
DESCRIPTION:Please join Gloucester Marine Genomics Institute (GMGI) on Tuesday\, June 3rd at Rockport Music for a night of science by the sea with renowned aging scientist Steven Austad\, Ph.D.\n\n\n\nCome to hear Dr. Austad tell stories of some extraordinary animals\, considering why\, for example\, animal species that fly live longer than earthbound species\, and why animals found in the ocean live longest of all.\n\n\n\nDr. Austad's approach to studying aging differs from the usual approach found in the field of aging science. Instead of focusing on species with short lifespans like fruit flies and mice\, which are experimentally manageable but unsuccessful at combating aging\, he investigates nature's biggest successes\, like a 400-year-old shark or a 200-year-old whale. He suggests we should research long-lived species   instead of those with short lifespans   and use them as models for discovering novel anti-aging products and processes.\n\n\n\nOpening remarks and Q & A with Andrea Bodnar\, Ph.D.\, GMGI's Donald G. Comb Science Director.\n\n\n\nDoors open at 5:30pm and the talk begins promptly at 6pm. \n\n\n\nThis talk is free and open to the public\, but registration is required.\n\n\n\nQuestions? Please reach out to Maggie Costello.
X-ALT-DESC;FMTTYPE=text/html:<p><span style="font-size:16px"><span style="color:rgb(116\, 116\, 116)">Please join Gloucester Marine Genomics Institute (GMGI)&nbsp\;</span>on Tuesday\, June 3rd at Rockport Music<span style="color:rgb(116\, 116\, 116)">&nbsp\;for a night of science by the sea with renowned aging scientist&nbsp\;</span><a href="https://www.uab.edu/cas/biology/people/faculty/steven-n-austad" style="text-size-adjust: 100%\; color: rgb(0\, 111\, 121)\; font-weight: bold\; font-family: Arial\, &quot\;Helvetica Neue&quot\;\, Helvetica\, sans-serif\; font-size: 16px\;" target="_blank">Steven Austad\, Ph.D</a>.</span><br />\n<br />\n<span style="color:rgb(116\, 116\, 116)\; font-family:arial\,helvetica neue\,helvetica\,sans-serif\; font-size:16px">Come to hear Dr. Austad tell stories of some extraordinary animals\, considering why\, for example\, animal species that fly live longer than earthbound species\, and why animals found in the ocean live longest of all.</span><br />\n<br />\n<span style="color:rgb(116\, 116\, 116)\; font-family:arial\,helvetica neue\,helvetica\,sans-serif\; font-size:16px">Dr. Austad&#39\;s approach to studying aging differs from the usual approach found in the field of aging science. Instead of focusing on species with short lifespans like fruit flies and mice\, which are experimentally manageable but unsuccessful at combating aging\, he investigates nature&rsquo\;s biggest successes\, like a 400-year-old shark or a 200-year-old whale. He suggests we should research long-lived species &mdash\; instead of those with short lifespans &mdash\; and use them as models for discovering novel anti-aging products and processes.</span><br />\n<br />\n<span style="color:rgb(116\, 116\, 116)\; font-family:arial\,helvetica neue\,helvetica\,sans-serif\; font-size:16px">Opening remarks and Q &amp\; A with&nbsp\;</span><a href="https://gmgi.org/about/team/leadership/andrea-bodnar-phd/" style="text-size-adjust: 100%\; color: rgb(0\, 111\, 121)\; font-weight: bold\; font-family: Arial\, &quot\;Helvetica Neue&quot\;\, Helvetica\, sans-serif\; font-size: 16px\;" target="_blank">Andrea Bodnar\, Ph.D.</a><span style="color:rgb(116\, 116\, 116)\; font-family:arial\,helvetica neue\,helvetica\,sans-serif\; font-size:16px">\, GMGI&#39\;s Donald G. Comb Science Director.</span><br />\n<br />\n<span style="color:rgb(116\, 116\, 116)\; font-family:arial\,helvetica neue\,helvetica\,sans-serif\; font-size:16px">Doors open at 5:30pm and the talk begins promptly at 6pm.&nbsp\;</span><br />\n<br />\n<span style="color:rgb(116\, 116\, 116)\; font-family:arial\,helvetica neue\,helvetica\,sans-serif\; font-size:16px">This talk is free and open to the public\, but&nbsp\;</span><a href="https://www.eventbrite.com/e/methuselahs-zoo-what-nature-can-teach-us-about-living-longer-lives-tickets-1308766920089?aff=oddtdtcreator" style="text-size-adjust: 100%\; color: rgb(0\, 111\, 121)\; font-weight: bold\; font-family: Arial\, &quot\;Helvetica Neue&quot\;\, Helvetica\, sans-serif\; font-size: 16px\;" target="_blank">r</a><a href="https://www.eventbrite.com/e/methuselahs-zoo-what-nature-can-teach-us-about-living-longer-lives-tickets-1308766920089?aff=oddtdtcreator" style="text-size-adjust: 100%\; color: rgb(0\, 111\, 121)\; font-weight: bold\; font-family: Arial\, &quot\;Helvetica Neue&quot\;\, Helvetica\, sans-serif\; font-size: 16px\;" target="_blank">egistration is required</a><span style="color:rgb(116\, 116\, 116)\; font-family:arial\,helvetica neue\,helvetica\,sans-serif\; font-size:16px">.<br />\n<br />\nQuestions? Please reach out to&nbsp\;</span><a href="mailto:maggie.costello@gmgi.org" style="text-size-adjust: 100%\; color: rgb(0\, 111\, 121)\; font-weight: bold\; font-family: Arial\, &quot\;Helvetica Neue&quot\;\, Helvetica\, sans-serif\; font-size: 16px\;" target="_blank">Maggie Costello</a><span style="color:rgb(116\, 116\, 116)\; font-family:arial\,helvetica neue\,helvetica\,sans-serif\; font-size:16px">.</span></p>\n
LOCATION:Rockport Music-Shalin Liu Performance Center 37 Main Street Rockport\, MA 01966
UID:e.2981.36622
SEQUENCE:3
DTSTAMP:20260424T211807Z
URL:https://business.capeannchamber.com/events/details/methuselah-s-zoo-what-nature-can-teach-us-about-living-longer-lives-36622
END:VEVENT

END:VCALENDAR
