BEGIN:VCALENDAR
VERSION:2.0
PRODID:-//ChamberMaster//Event Calendar 2.0//EN
METHOD:PUBLISH
X-PUBLISHED-TTL:P3D
REFRESH-INTERVAL:P3D
CALSCALE:GREGORIAN
BEGIN:VEVENT
DTSTART:20250426T170000Z
DTEND:20250426T190000Z
X-MICROSOFT-CDO-ALLDAYEVENT:FALSE
SUMMARY:Met Opera Live in HD: Le Nozze di Figaro
DESCRIPTION:Conductor Joana Mallwitz\, in her Met debut\, takes the podium to conduct a stellar ensemble cast including American bass-baritone Michael Sumuel as the clever valet Figaro\, Ukrainian soprano Olga Kulchynska as the wily maid Susanna\, Canadian baritone Joshua Hopkins as the skirt-chasing Count\, Italian soprano Federica Lombardi as his anguished wife\, and French mezzo-soprano Marianne Crebassa as the adolescent page Cherubino.
X-ALT-DESC;FMTTYPE=text/html:<p><span style="background-color:rgb(250\, 250\, 250)\; color:rgb(0\, 0\, 0)\; font-family:open sans\,helvetica neue\,helvetica\,arial\,sans-serif\; font-size:18px">Conductor Joana Mallwitz\, in her Met debut\, takes the podium to conduct a stellar ensemble cast including American bass-baritone Michael Sumuel as the clever valet Figaro\, Ukrainian soprano Olga Kulchynska as the wily maid Susanna\, Canadian baritone Joshua Hopkins as the skirt-chasing Count\, Italian soprano Federica Lombardi as his anguished wife\, and French mezzo-soprano Marianne Crebassa as the adolescent page Cherubino.</span></p>\n
LOCATION:37 Main St\, Rockport\, MA 01966
UID:e.2981.35185
SEQUENCE:3
DTSTAMP:20260424T140935Z
URL:https://business.capeannchamber.com/events/details/met-opera-live-in-hd-le-nozze-di-figaro-35185
END:VEVENT

END:VCALENDAR
