BEGIN:VCALENDAR
VERSION:2.0
PRODID:-//ChamberMaster//Event Calendar 2.0//EN
METHOD:PUBLISH
X-PUBLISHED-TTL:P3D
REFRESH-INTERVAL:P3D
CALSCALE:GREGORIAN
BEGIN:VEVENT
DTSTART:20250125T173000Z
DTEND:20250125T193000Z
X-MICROSOFT-CDO-ALLDAYEVENT:FALSE
SUMMARY:Met Opera Live in HD: Aida
DESCRIPTION:American soprano Angel Blue headlines as the Ethiopian princess torn between love and country in a new production of Verdi's Aida by Michael Mayer that brings audiences inside the towering pyramids and gilded tombs of ancient Egypt with intricate projections and dazzling animations.
X-ALT-DESC;FMTTYPE=text/html:<span style="background-color:rgb(250\, 250\, 250)\; color:rgb(0\, 0\, 0)\; font-family:open sans\,helvetica neue\,helvetica\,arial\,sans-serif\; font-size:18px">American soprano Angel Blue headlines as the Ethiopian princess torn between love and country in a new production of Verdi&rsquo\;s&nbsp\;</span><em>Aida&nbsp\;</em><span style="background-color:rgb(250\, 250\, 250)\; color:rgb(0\, 0\, 0)\; font-family:open sans\,helvetica neue\,helvetica\,arial\,sans-serif\; font-size:18px">by Michael Mayer that brings audiences inside the towering pyramids and gilded tombs of ancient Egypt with intricate projections and dazzling animations.</span>
LOCATION:37 Main St\, Rockport\, MA 01966
UID:e.2981.34254
SEQUENCE:3
DTSTAMP:20260424T164553Z
URL:https://business.capeannchamber.com/events/details/met-opera-live-in-hd-aida-34254
END:VEVENT

END:VCALENDAR
