BEGIN:VCALENDAR
VERSION:2.0
PRODID:-//ChamberMaster//Event Calendar 2.0//EN
METHOD:PUBLISH
X-PUBLISHED-TTL:P3D
REFRESH-INTERVAL:P3D
CALSCALE:GREGORIAN
BEGIN:VEVENT
DTSTART:20220312T175500Z
DTEND:20220326T185500Z
X-MICROSOFT-CDO-ALLDAYEVENT:FALSE
SUMMARY:Met Opera: Ariadne auf Naxos
DESCRIPTION:The exhilarating soprano Lise Davidsen brings one of her signature roles to the Met for the first time as the mythological Greek heroine of Strauss's enchanting masterpiece. The outstanding cast also features mezzo-soprano Isabel Leonard as the Composer of the opera-within-an-opera around which the plot revolves\, with soprano Brenda Rae as the spirited Zerbinetta\, tenor Brandon Jovanovich as Ariadne's lover\, the god Bacchus\, and Thomas Allen as the Major-Domo. Marek Janowski conducts.
X-ALT-DESC;FMTTYPE=text/html:<span style="color:rgb(0\, 0\, 0)\; font-family:docs-calibri\; font-size:15px">The exhilarating soprano Lise Davidsen brings one of her signature roles to the Met for the first time as the mythological Greek heroine of Strauss&rsquo\;s enchanting masterpiece. The outstanding cast also features mezzo-soprano Isabel Leonard as the Composer of the opera-within-an-opera around which the plot revolves\, with soprano Brenda Rae as the spirited Zerbinetta\, tenor Brandon Jovanovich as Ariadne&rsquo\;s lover\, the god Bacchus\, and Thomas Allen as the Major-Domo. Marek Janowski conducts.</span>
LOCATION:Shalin Liu Performance Center 37 Main Street Rockport\, MA 01944
UID:e.2981.21767
SEQUENCE:3
DTSTAMP:20260420T125605Z
URL:https://business.capeannchamber.com/events/details/met-opera-ariadne-auf-naxos-21767
END:VEVENT

END:VCALENDAR
