BEGIN:VCALENDAR
VERSION:2.0
PRODID:-//ChamberMaster//Event Calendar 2.0//EN
METHOD:PUBLISH
X-PUBLISHED-TTL:P3D
REFRESH-INTERVAL:P3D
CALSCALE:GREGORIAN
BEGIN:VEVENT
DTSTART:20221210T000000Z
DTEND:20221210T020000Z
X-MICROSOFT-CDO-ALLDAYEVENT:FALSE
SUMMARY:Messiah with Handel & Haydn Society at Shalin Liu
DESCRIPTION:Handel's iconic Messiah is a treasured holiday tradition that will be performed by the incomparable Handel & Haydn Society in a special chamber arrangement for 13-member chamber orchestra and chorus led by Associate Conductor Ian Watson.  The Yankee Magazine hails that "The Handel and Haydn Society's Messiah remains unmatched."
X-ALT-DESC;FMTTYPE=text/html:Handel&rsquo\;s iconic&nbsp\;Messiah&nbsp\;is a treasured holiday tradition that will be performed by the incomparable Handel &amp\; Haydn Society in a special chamber arrangement for 13-member chamber orchestra and chorus led by Associate Conductor Ian Watson.&nbsp\; The&nbsp\;Yankee Magazine&nbsp\;hails that &ldquo\;The Handel and Haydn Society&rsquo\;s&nbsp\;Messiah&nbsp\;remains unmatched.&rdquo\;
LOCATION:Shalin Liu Performance Center 37 Main Street Rockport\, MA
UID:e.2981.23094
SEQUENCE:3
DTSTAMP:20260424T090301Z
URL:https://business.capeannchamber.com/events/details/messiah-with-handel-haydn-society-at-shalin-liu-23094
END:VEVENT

END:VCALENDAR
