BEGIN:VCALENDAR
VERSION:2.0
PRODID:-//ChamberMaster//Event Calendar 2.0//EN
METHOD:PUBLISH
X-PUBLISHED-TTL:P3D
REFRESH-INTERVAL:P3D
CALSCALE:GREGORIAN
BEGIN:VEVENT
DTSTART:20250809T170000Z
DTEND:20250809T210000Z
X-MICROSOFT-CDO-ALLDAYEVENT:FALSE
SUMMARY:Meet the Artist: Dale Koppel
DESCRIPTION:You are invited to Meet the Artist - Dale Koppel\n\n\n\nAll new work\n\n\n\nRefreshments will be served
X-ALT-DESC;FMTTYPE=text/html:<span style="font-size:14px\;"><strong>You are invited to Meet the Artist - Dale Koppel</strong></span><br />\n<br />\nAll new work<br />\n<br />\nRefreshments will be served
LOCATION:The Square Circle
UID:e.2981.41377
SEQUENCE:3
DTSTAMP:20260425T011304Z
URL:https://business.capeannchamber.com/events/details/meet-the-artist-dale-koppel-41377
END:VEVENT

END:VCALENDAR
