BEGIN:VCALENDAR
VERSION:2.0
PRODID:-//ChamberMaster//Event Calendar 2.0//EN
METHOD:PUBLISH
X-PUBLISHED-TTL:P3D
REFRESH-INTERVAL:P3D
CALSCALE:GREGORIAN
BEGIN:VEVENT
DTSTART:20211030T000000Z
DTEND:20211030T000000Z
X-MICROSOFT-CDO-ALLDAYEVENT:FALSE
SUMMARY:Matt Nakoa at Shalin Liu
DESCRIPTION:Matt Nakoa is an award-winning songwriter\, singer\, and multi-instrumentalist. A modern troubadour\, he makes his home on the highways and concert stages of America and appears regularly with folk music icon Tom Rush. The Boston Globe says of Nakoa\, "Between his piano chops and heartfelt originals on guitar\, he drops jaws."
X-ALT-DESC;FMTTYPE=text/html:Matt Nakoa is an award-winning songwriter\, singer\, and multi-instrumentalist. A modern troubadour\, he makes his home on the highways and concert stages of America and appears regularly with folk music icon Tom Rush. The Boston Globe says of Nakoa\, &ldquo\;Between his piano chops and heartfelt originals on guitar\, he drops jaws.&rdquo\;
LOCATION:
UID:e.2981.21256
SEQUENCE:3
DTSTAMP:20260424T105713Z
URL:https://business.capeannchamber.com/events/details/matt-nakoa-at-shalin-liu-21256
END:VEVENT

END:VCALENDAR
