BEGIN:VCALENDAR
VERSION:2.0
PRODID:-//ChamberMaster//Event Calendar 2.0//EN
METHOD:PUBLISH
X-PUBLISHED-TTL:P3D
REFRESH-INTERVAL:P3D
CALSCALE:GREGORIAN
BEGIN:VEVENT
DTSTART:20241214T153000Z
DTEND:20241214T170000Z
X-MICROSOFT-CDO-ALLDAYEVENT:FALSE
SUMMARY:Matt Heaton’s Holiday Hootenanny
DESCRIPTION:Kids at The Cabot: Join us at The Cabot in Beverly for a fun\, kids series held monthly on Saturday mornings featuring incredible artists who educate and inspire.\n\n\nMatt Heaton's Holiday Hootenanny is a dance-filled\, laugh-laced CD release party for the whole family. With his band the Outside Toys\, Heaton performs hits from his shiny new album "Snow Day!" (Because nothing says holidays like retro hi fi guitar stylings\, and a rock solid rhythm section.)\n\nWarm up the cocoa. Break out the candy canes. Dust off the Rudolph-singing pipes. Matt Heaton and the Outside Toys are coming to town!
X-ALT-DESC;FMTTYPE=text/html:Kids at The Cabot: Join us at The Cabot in Beverly for a fun\, kids series held monthly on Saturday mornings featuring incredible artists who educate and inspire.\n<p><br />\nMatt Heaton&rsquo\;s Holiday Hootenanny is a dance-filled\, laugh-laced CD release party for the whole family. With his band the Outside Toys\, Heaton performs hits from his shiny new album &ldquo\;Snow Day!&rdquo\; (Because nothing says holidays like retro hi fi guitar stylings\, and a rock solid rhythm section.)</p>\n\n<p>Warm up the cocoa. Break out the candy canes. Dust off the Rudolph-singing pipes. Matt Heaton and the Outside Toys are coming to town!</p>\n
LOCATION:The Cabot 286 Cabot Street Beverly\, MA 01915
UID:e.2981.34228
SEQUENCE:3
DTSTAMP:20260424T140830Z
URL:https://business.capeannchamber.com/events/details/matt-heaton-s-holiday-hootenanny-34228
END:VEVENT

END:VCALENDAR
