BEGIN:VCALENDAR
VERSION:2.0
PRODID:-//ChamberMaster//Event Calendar 2.0//EN
METHOD:PUBLISH
X-PUBLISHED-TTL:P3D
REFRESH-INTERVAL:P3D
CALSCALE:GREGORIAN
BEGIN:VEVENT
DTSTART;VALUE=DATE:20260119
DTEND;VALUE=DATE:20260120
TRANSP:TRANSPARENT
X-MICROSOFT-CDO-ALLDAYEVENT:TRUE
SUMMARY:MARTIN LUTHER KING JR. DAY PROGRAM IN THE GLOUCESTER MEETINGHOUSE ON MONDAY\, JANUARY 19\, 2026
DESCRIPTION:GLOUCESTER\, MA: The Gloucester Meetinghouse Foundation\, in collaboration with the Gloucester Racial Justice Team\, will present a program to explore the work of Dr. Martin Luther King\, Jr. The goal is to use our history to guide us in light of today's social\, economic\, and political challenges. The featured speaker will be Professor Jamie Wilson\, historian from Salem State University and author of a book about Dr. King. The free program will take place on Monday\, January 19 at 2:00 p.m. in the historic Gloucester Meetinghouse\, home of the Gloucester Unitarian Universalist Church\, on the green at 50 Middle Street. For more information please visit www.gloucestermeetinghouse.org\n\nProfessor Wilson is the author of Martin Luther King. Jr.: A Life in American History. New York: Bloomsbury\, 2023. He will discuss the obstacles faced by Dr. King and the struggle for racial equality in both the north and the south after the landmark Supreme Court decisions that banned segregated schools but left many discriminatory practices intact across many industries such as housing and employment.\n\nEVENT DESCRIPTION\n\nAll are invited to the UU Church Social Hall (downstairs) where Professor Wilson will speak\, followed by a video excerpt from a 1967 interview of MLK\, Jr. by Sander Vanocur of NBC News. Participants will then be divided into discussion groups led by trained facilitators. Each group will tackle issues that are relevant to\n\n2 | Page Gloucester Meetinghouse Foundation\n\nthe struggles for human dignity and security that Reverend King championed. Parking is available on the green in front of the Meetinghouse. Please enter the Social Hall via the side door at #10 Church Street or the side door from the Gould Court parking area. Light refreshments will be served.\n\nOrganizers of this event include Jerry Ackerman and Karen N. Bell\, co-chairs of the Gloucester Meetinghouse Events Committee\, and Michea McCaffrey\, Chair of the Gloucester Racial Justice Team. A special sponsor of the event is the Beverly & Addison Gilbert Hospitals\, a member of Beth Israel Lahey Health. This annual MLK Day program in Gloucester is part of the Meetinghouse Tenth Anniversary series.\n\nABOUT THE GLOUCESTER MEETINGHOUSE FOUNDATION\n\nThe Gloucester Meetinghouse Foundation's mission is to preserve one of Gloucester's most admired historic buildings\, built in 1806 for the first Universalist church in America\, as a civic hub\, entertainment venue and community gathering center. The Foundation is an IRS-recognized 501(c)(3) non-profit and invites your support.
X-ALT-DESC;FMTTYPE=text/html:GLOUCESTER\, MA: The Gloucester Meetinghouse Foundation\, in collaboration with the Gloucester Racial Justice Team\, will present a program to explore the work of Dr. Martin Luther King\, Jr. The goal is to use our history to guide us in light of today&rsquo\;s social\, economic\, and political challenges. The featured speaker will be Professor Jamie Wilson\, historian from Salem State University and author of a book about Dr. King. The free program will take place on Monday\, January 19 at 2:00 p.m. in the historic Gloucester Meetinghouse\, home of the Gloucester Unitarian Universalist Church\, on the green at 50 Middle Street. For more information please visit www.gloucestermeetinghouse.org<br />\nProfessor Wilson is the author of Martin Luther King. Jr.: A Life in American History. New York: Bloomsbury\, 2023. He will discuss the obstacles faced by Dr. King and the struggle for racial equality in both the north and the south after the landmark Supreme Court decisions that banned segregated schools but left many discriminatory practices intact across many industries such as housing and employment.<br />\nEVENT DESCRIPTION<br />\nAll are invited to the UU Church Social Hall (downstairs) where Professor Wilson will speak\, followed by a video excerpt from a 1967 interview of MLK\, Jr. by Sander Vanocur of NBC News. Participants will then be divided into discussion groups led by trained facilitators. Each group will tackle issues that are relevant to<br />\n2 | Page Gloucester Meetinghouse Foundation<br />\nthe struggles for human dignity and security that Reverend King championed. Parking is available on the green in front of the Meetinghouse. Please enter the Social Hall via the side door at #10 Church Street or the side door from the Gould Court parking area. Light refreshments will be served.<br />\nOrganizers of this event include Jerry Ackerman and Karen N. Bell\, co-chairs of the Gloucester Meetinghouse Events Committee\, and Michea McCaffrey\, Chair of the Gloucester Racial Justice Team. A special sponsor of the event is the Beverly &amp\; Addison Gilbert Hospitals\, a member of Beth Israel Lahey Health. This annual MLK Day program in Gloucester is part of the Meetinghouse Tenth Anniversary series.<br />\nABOUT THE GLOUCESTER MEETINGHOUSE FOUNDATION<br />\nThe Gloucester Meetinghouse Foundation&rsquo\;s mission is to preserve one of Gloucester&rsquo\;s most admired historic buildings\, built in 1806 for the first Universalist church in America\, as a civic hub\, entertainment venue and community gathering center. The Foundation is an IRS-recognized 501(c)(3) non-profit and invites your support.
LOCATION:On the Green at 50 Middle Street\, Gloucester
UID:e.2981.45884
SEQUENCE:3
DTSTAMP:20260422T010428Z
URL:https://business.capeannchamber.com/events/details/martin-luther-king-jr-day-program-in-the-gloucester-meetinghouse-on-monday-january-19-2026-45884
END:VEVENT

END:VCALENDAR
