BEGIN:VCALENDAR
VERSION:2.0
PRODID:-//ChamberMaster//Event Calendar 2.0//EN
METHOD:PUBLISH
X-PUBLISHED-TTL:P3D
REFRESH-INTERVAL:P3D
CALSCALE:GREGORIAN
BEGIN:VEVENT
DTSTART:20200120T190000Z
DTEND:20200120T230000Z
X-MICROSOFT-CDO-ALLDAYEVENT:FALSE
SUMMARY:Martin Luther King\, Jr. Day Celebration
DESCRIPTION:MARTIN LUTHER KING\, JR. DAY CELEBRATION  Monday\, January 20\, 2020  2-6pm\n\nPresented by the Gloucester Meetinghouse Foundation\n\nThe program will unveil extensive research by the Cape Ann Slavery and Abolition Trust (CASAT) that documents the role that the industry of slavery had on Cape Ann from the 1700s until the Civil War. Alvin Foster and his Soul Eclectic Band will provide music. Byron Rushing\, past president of the Boston Museum of African-American History\, and a longtime state representative and civil rights leader will deliver the keynote address. A panel discussion with Q&A follows. The program concludes with a slide show and audio recording of Martin Luther King\, Jr. and ringing the Paul Revere bell for freedom. The program is free-all are welcome.
X-ALT-DESC;FMTTYPE=text/html:<p><u><strong>MARTIN LUTHER KING\, JR. DAY CELEBRATION</strong></u><u><strong>&nbsp\; Monday\, January 20\, 2020&nbsp\; 2-6pm</strong></u><br />\n<strong>Presented by the Gloucester Meetinghouse Foundation</strong><br />\nThe program will unveil extensive research by the <strong>Cape Ann Slavery and Abolition Trust</strong> (CASAT) that documents the role that the industry of slavery had on Cape Ann from the 1700s until the Civil War. <strong>Alvin Foster and his Soul Eclectic Band</strong> will provide music. <strong>Byron Rushing</strong>\, past president of the Boston Museum of African-American History\, and a longtime state representative and civil rights leader will deliver the keynote address. A panel discussion with Q&amp\;A follows. The program concludes with a slide show and audio recording of Martin Luther King\, Jr. and ringing the Paul Revere bell for freedom. The program is free-all are welcome.</p>\n
LOCATION:The historic 1806 Gloucester Meetinghouse\, on the green at the corner of Church and Middle Streets in Gloucester.
UID:e.2981.18690
SEQUENCE:3
DTSTAMP:20260421T181659Z
URL:https://business.capeannchamber.com/events/details/martin-luther-king-jr-day-celebration-18690
END:VEVENT

END:VCALENDAR
