BEGIN:VCALENDAR
VERSION:2.0
PRODID:-//ChamberMaster//Event Calendar 2.0//EN
METHOD:PUBLISH
X-PUBLISHED-TTL:P3D
REFRESH-INTERVAL:P3D
CALSCALE:GREGORIAN
BEGIN:VEVENT
DTSTART:20250917T210000Z
DTEND:20250917T230000Z
X-MICROSOFT-CDO-ALLDAYEVENT:FALSE
SUMMARY:Market View
DESCRIPTION:Market View\n\nRSVP required - dawn.soriano@edwardjones.com
X-ALT-DESC;FMTTYPE=text/html:Market View<br />\nRSVP required - dawn.soriano@edwardjones.com
LOCATION:Luna Mare 25 Hammatt St\, Ipswich MA
UID:e.2981.43123
SEQUENCE:3
DTSTAMP:20260425T011055Z
URL:https://business.capeannchamber.com/events/details/market-view-43123
END:VEVENT

END:VCALENDAR
