BEGIN:VCALENDAR
VERSION:2.0
PRODID:-//ChamberMaster//Event Calendar 2.0//EN
METHOD:PUBLISH
X-PUBLISHED-TTL:P3D
REFRESH-INTERVAL:P3D
CALSCALE:GREGORIAN
BEGIN:VEVENT
DTSTART:20250813T230000Z
DTEND:20250814T010000Z
X-MICROSOFT-CDO-ALLDAYEVENT:FALSE
SUMMARY:Market Square Interactive Public Design Forum
DESCRIPTION:The Town of Ipswich Select Board is hosting a public meeting on the proposed improvements on the downtown area of Central and South Main Street as it relates to the ongoing TIP project.  \n\n\n\nDesign Forum\n\n\n\nHere is some additional information on the proposed project\n\nhttps://www.ipswichma.gov/DocumentCenter/View/17368/Central-Street--South-Main-Street-TIP-Project?bidId=
X-ALT-DESC;FMTTYPE=text/html:The Town of Ipswich Select Board is hosting a public meeting on the proposed improvements on the downtown area of Central and South Main Street as it relates to the ongoing TIP project.&nbsp\;&nbsp\;<br />\n<br />\n<a href="https://www.ipswichma.gov/CivicAlerts.aspx?AID=2020">Design Forum</a><br />\n<br />\nHere is some additional information on the proposed project<br />\n<a href="https://www.ipswichma.gov/DocumentCenter/View/17368/Central-Street--South-Main-Street-TIP-Project?bidId=">https://www.ipswichma.gov/DocumentCenter/View/17368/Central-Street--South-Main-Street-TIP-Project?bidId=</a>
LOCATION:Ipswich Town Hall\, meeting room A
UID:e.2981.37461
SEQUENCE:3
DTSTAMP:20260424T235202Z
URL:https://business.capeannchamber.com/events/details/market-square-interactive-public-design-forum-37461
END:VEVENT

END:VCALENDAR
