BEGIN:VCALENDAR
VERSION:2.0
PRODID:-//ChamberMaster//Event Calendar 2.0//EN
METHOD:PUBLISH
X-PUBLISHED-TTL:P3D
REFRESH-INTERVAL:P3D
CALSCALE:GREGORIAN
BEGIN:VEVENT
DTSTART:20221021T000000Z
DTEND:20221021T020000Z
X-MICROSOFT-CDO-ALLDAYEVENT:FALSE
SUMMARY:Mark & Maggie O'Connor at Shalin Liu
DESCRIPTION:With three Grammy wins\, seven CMA Awards\, and multiple national fiddle\, guitar\, and mandolin champion titles\, Mark O'Connor's music and career truly defies categories.
X-ALT-DESC;FMTTYPE=text/html:<span style="background-color:rgb(250\, 250\, 250)\; color:rgb(0\, 0\, 0)\; font-family:open sans\,helvetica neue\,helvetica\,arial\,sans-serif\; font-size:18px">With three Grammy wins\, seven CMA Awards\, and multiple national fiddle\, guitar\, and mandolin champion titles\, Mark O&rsquo\;Connor&rsquo\;s music and career truly defies categories.</span>
LOCATION:37 Main Street\, Rockport MA\, 01966
UID:e.2981.22950
SEQUENCE:3
DTSTAMP:20260421T023217Z
URL:https://business.capeannchamber.com/events/details/mark-maggie-o-connor-at-shalin-liu-10-20-2022-22950
END:VEVENT

END:VCALENDAR
