BEGIN:VCALENDAR
VERSION:2.0
PRODID:-//ChamberMaster//Event Calendar 2.0//EN
METHOD:PUBLISH
X-PUBLISHED-TTL:P3D
REFRESH-INTERVAL:P3D
CALSCALE:GREGORIAN
BEGIN:VEVENT
DTSTART:20221002T170000Z
DTEND:20221002T190000Z
X-MICROSOFT-CDO-ALLDAYEVENT:FALSE
SUMMARY:Manhattan Short Film Festival
DESCRIPTION:The Manhattan Short Film Festival is a unique experience\, extending beyond its headquarters in New York City by inviting participating venues worldwide to screen entries and allow audience voting to determine the winner.
X-ALT-DESC;FMTTYPE=text/html:<span style="background-color:rgb(250\, 250\, 250)\; color:rgb(0\, 0\, 0)\; font-family:open sans\,helvetica neue\,helvetica\,arial\,sans-serif\; font-size:18px">The Manhattan Short Film Festival is a unique experience\, extending beyond its headquarters in New York City by inviting participating venues worldwide to screen entries and allow audience voting to determine the winner.</span>
LOCATION:37 Main Street\, Rockport MA\, 01966
UID:e.2981.22933
SEQUENCE:3
DTSTAMP:20260424T124119Z
URL:https://business.capeannchamber.com/events/details/manhattan-short-film-festival-10-02-2022-22933
END:VEVENT

END:VCALENDAR
